BEGIN:VCALENDAR
VERSION:2.0
PRODID:-//Filharmonia Sudecka - ECPv6.15.16//NONSGML v1.0//EN
CALSCALE:GREGORIAN
METHOD:PUBLISH
X-WR-CALNAME:Filharmonia Sudecka
X-ORIGINAL-URL:https://filharmoniasudecka.pl/en/
X-WR-CALDESC:Events for Filharmonia Sudecka
REFRESH-INTERVAL;VALUE=DURATION:PT1H
X-Robots-Tag:noindex
X-PUBLISHED-TTL:PT1H
BEGIN:VTIMEZONE
TZID:Europe/Warsaw
BEGIN:DAYLIGHT
TZOFFSETFROM:+0100
TZOFFSETTO:+0200
TZNAME:CEST
DTSTART:20250330T010000
END:DAYLIGHT
BEGIN:STANDARD
TZOFFSETFROM:+0200
TZOFFSETTO:+0100
TZNAME:CET
DTSTART:20251026T010000
END:STANDARD
BEGIN:DAYLIGHT
TZOFFSETFROM:+0100
TZOFFSETTO:+0200
TZNAME:CEST
DTSTART:20260329T010000
END:DAYLIGHT
BEGIN:STANDARD
TZOFFSETFROM:+0200
TZOFFSETTO:+0100
TZNAME:CET
DTSTART:20261025T010000
END:STANDARD
BEGIN:DAYLIGHT
TZOFFSETFROM:+0100
TZOFFSETTO:+0200
TZNAME:CEST
DTSTART:20270328T010000
END:DAYLIGHT
BEGIN:STANDARD
TZOFFSETFROM:+0200
TZOFFSETTO:+0100
TZNAME:CET
DTSTART:20271031T010000
END:STANDARD
END:VTIMEZONE
BEGIN:VEVENT
DTSTART;TZID=Europe/Warsaw:20260313T190000
DTEND;TZID=Europe/Warsaw:20260313T190000
DTSTAMP:20260420T110505
CREATED:20250618T080050Z
LAST-MODIFIED:20251128T135921Z
UID:10000495-1773428400-1773428400@filharmoniasudecka.pl
SUMMARY:An evening in Budapest
DESCRIPTION:13.03.2026\, Friday\, 7pm\nWałbrzych\, Filharmonia Sudecka\nAn evening in Budapest \nPerformers\nTadeusz Wojciechowski — conductor\nIldiko Juhasz — flute\nJuliusz Wesołowski — harp\nSudeten Philharmonic Symphony Orchestra \nProgram\nFranz Liszt — Symphonic Poem Les Preludes     (18′)\nWolfgang Amadeus Mozart — Concerto in C major for flute and harp\, KV 299     (30′)\nBéla Bartók — Concerto for orchestra     (45′) \nDuration: 125′ (with a 20′ intermission)\nTickets: 60 / 40 PLN \n 
URL:https://filharmoniasudecka.pl/en/event/an-evening-in-budapest/
LOCATION:Sala Koncertowa Filharmonii Sudeckiej\, Słowackiego 4\, Wałbrzych\, Wałbrzych\, 58-300\, Poland
ATTACH;FMTTYPE=image/jpeg:https://filharmoniasudecka.pl/wp-content/uploads/2026/03/2026-03-13-712x1072-1.jpg
END:VEVENT
END:VCALENDAR