BEGIN:VCALENDAR
VERSION:2.0
PRODID:-//Filharmonia Sudecka - ECPv6.15.16//NONSGML v1.0//EN
CALSCALE:GREGORIAN
METHOD:PUBLISH
X-WR-CALNAME:Filharmonia Sudecka
X-ORIGINAL-URL:https://filharmoniasudecka.pl/en/
X-WR-CALDESC:Events for Filharmonia Sudecka
REFRESH-INTERVAL;VALUE=DURATION:PT1H
X-Robots-Tag:noindex
X-PUBLISHED-TTL:PT1H
BEGIN:VTIMEZONE
TZID:Europe/Warsaw
BEGIN:DAYLIGHT
TZOFFSETFROM:+0100
TZOFFSETTO:+0200
TZNAME:CEST
DTSTART:20250330T010000
END:DAYLIGHT
BEGIN:STANDARD
TZOFFSETFROM:+0200
TZOFFSETTO:+0100
TZNAME:CET
DTSTART:20251026T010000
END:STANDARD
BEGIN:DAYLIGHT
TZOFFSETFROM:+0100
TZOFFSETTO:+0200
TZNAME:CEST
DTSTART:20260329T010000
END:DAYLIGHT
BEGIN:STANDARD
TZOFFSETFROM:+0200
TZOFFSETTO:+0100
TZNAME:CET
DTSTART:20261025T010000
END:STANDARD
BEGIN:DAYLIGHT
TZOFFSETFROM:+0100
TZOFFSETTO:+0200
TZNAME:CEST
DTSTART:20270328T010000
END:DAYLIGHT
BEGIN:STANDARD
TZOFFSETFROM:+0200
TZOFFSETTO:+0100
TZNAME:CET
DTSTART:20271031T010000
END:STANDARD
END:VTIMEZONE
BEGIN:VEVENT
DTSTART;TZID=Europe/Warsaw:20260314T180000
DTEND;TZID=Europe/Warsaw:20260314T180000
DTSTAMP:20260420T111840
CREATED:20250618T080028Z
LAST-MODIFIED:20260220T093718Z
UID:10000496-1773511200-1773511200@filharmoniasudecka.pl
SUMMARY:Wieniawski in blue
DESCRIPTION:14.03.2026\, Saturdya\, 6pm\nWałbrzych\, Filharmonia Sudecka\nWieniawski in blue \nPerformers\nPiotr Pławner — host\, violin\nPaweł Tomaszewski Trio:\nPaweł Tomaszewski — piano\nMichał Kapczuk — bass\nPaweł Dobrowolski — percussion\nSilesian Chamber Players Orchestra \nProgram\nHenryk Wieniawski compositions arranged by Dariusz Zbocha for violin\, string orchestra and a jazz trio:\nPieśń polska op. 12 nr 2\nObertas op. 19 nr 1\nKujawiak op. 3 nr 2\nLegenda op. 17\nKaprys op. 18 nr 2\nKaprys op. 18 nr 4\nKaprys op. 10 nr 5 „Alla saltarella”\nKaprys op. 10 nr 7 „La cadenza”\nII Koncert skrzypcowy d-moll op. 22 cz. II i III\nI Koncert skrzypcowy fis-moll op. 14 cz. II \nDuration: 90′ (with a 20′ intermission)\nTickets: 80 / 60 PLN \n \n 
URL:https://filharmoniasudecka.pl/en/event/wieniawski-in-blue/
LOCATION:Sala Koncertowa Filharmonii Sudeckiej\, Słowackiego 4\, Wałbrzych\, Wałbrzych\, 58-300\, Poland
ATTACH;FMTTYPE=image/png:https://filharmoniasudecka.pl/wp-content/uploads/2026/03/Wieniawski-in-blue_14.03.2026.png
END:VEVENT
END:VCALENDAR