BEGIN:VCALENDAR
VERSION:2.0
PRODID:-//Filharmonia Sudecka - ECPv6.15.16//NONSGML v1.0//EN
CALSCALE:GREGORIAN
METHOD:PUBLISH
X-WR-CALNAME:Filharmonia Sudecka
X-ORIGINAL-URL:https://filharmoniasudecka.pl
X-WR-CALDESC:Wydarzenia dla Filharmonia Sudecka
REFRESH-INTERVAL;VALUE=DURATION:PT1H
X-Robots-Tag:noindex
X-PUBLISHED-TTL:PT1H
BEGIN:VTIMEZONE
TZID:Europe/Warsaw
BEGIN:DAYLIGHT
TZOFFSETFROM:+0100
TZOFFSETTO:+0200
TZNAME:CEST
DTSTART:20220327T010000
END:DAYLIGHT
BEGIN:STANDARD
TZOFFSETFROM:+0200
TZOFFSETTO:+0100
TZNAME:CET
DTSTART:20221030T010000
END:STANDARD
BEGIN:DAYLIGHT
TZOFFSETFROM:+0100
TZOFFSETTO:+0200
TZNAME:CEST
DTSTART:20230326T010000
END:DAYLIGHT
BEGIN:STANDARD
TZOFFSETFROM:+0200
TZOFFSETTO:+0100
TZNAME:CET
DTSTART:20231029T010000
END:STANDARD
BEGIN:DAYLIGHT
TZOFFSETFROM:+0100
TZOFFSETTO:+0200
TZNAME:CEST
DTSTART:20240331T010000
END:DAYLIGHT
BEGIN:STANDARD
TZOFFSETFROM:+0200
TZOFFSETTO:+0100
TZNAME:CET
DTSTART:20241027T010000
END:STANDARD
END:VTIMEZONE
BEGIN:VEVENT
DTSTART;TZID=Europe/Warsaw:20231008T180000
DTEND;TZID=Europe/Warsaw:20231008T180000
DTSTAMP:20260421T150304
CREATED:20230611T162934Z
LAST-MODIFIED:20231002T084839Z
UID:10000047-1696788000-1696788000@filharmoniasudecka.pl
SUMMARY:I Koncert Jubileuszowy 45 lat Filharmonii Sudeckiej
DESCRIPTION:8.10.2023\, niedziela\, godz. 18:00\nHradec Králové\, Filharmonia Hradec Králové\nI Koncert Jubileuszowy 45 lat Filharmonii Sudeckiej \nProgram:\nKatarzyna Dziewiątkowska Poemat symfoniczny „Legendae Montium Sudetorum”\nAntonín Dvořák Koncert skrzypcowy a-moll op. 53\nJosef Suk Pohadka op. 16 \nWykonawcy:\nMiriam Němcová – dyrygent\nChrystian Danowicz – skrzypce\nOrkiestra Symfoniczna Filharmonii Sudeckiej \nCzas trwania: 120 minut
URL:https://filharmoniasudecka.pl/event/i-koncert-jubileuszowy-2/
LOCATION:Filharmonia Hradec Kralove\, Eliščino nábř. 777/5\, Hradec Králové\, 500 03\, Czech Republic
ATTACH;FMTTYPE=image/png:https://filharmoniasudecka.pl/wp-content/uploads/2023/09/2023-10-06-1703x2560-HK-1.png
END:VEVENT
END:VCALENDAR