BEGIN:VCALENDAR
VERSION:2.0
PRODID:-//Filharmonia Sudecka - ECPv6.15.16//NONSGML v1.0//EN
CALSCALE:GREGORIAN
METHOD:PUBLISH
X-WR-CALNAME:Filharmonia Sudecka
X-ORIGINAL-URL:https://filharmoniasudecka.pl
X-WR-CALDESC:Wydarzenia dla Filharmonia Sudecka
REFRESH-INTERVAL;VALUE=DURATION:PT1H
X-Robots-Tag:noindex
X-PUBLISHED-TTL:PT1H
BEGIN:VTIMEZONE
TZID:Europe/Warsaw
BEGIN:DAYLIGHT
TZOFFSETFROM:+0100
TZOFFSETTO:+0200
TZNAME:CEST
DTSTART:20220327T010000
END:DAYLIGHT
BEGIN:STANDARD
TZOFFSETFROM:+0200
TZOFFSETTO:+0100
TZNAME:CET
DTSTART:20221030T010000
END:STANDARD
BEGIN:DAYLIGHT
TZOFFSETFROM:+0100
TZOFFSETTO:+0200
TZNAME:CEST
DTSTART:20230326T010000
END:DAYLIGHT
BEGIN:STANDARD
TZOFFSETFROM:+0200
TZOFFSETTO:+0100
TZNAME:CET
DTSTART:20231029T010000
END:STANDARD
BEGIN:DAYLIGHT
TZOFFSETFROM:+0100
TZOFFSETTO:+0200
TZNAME:CEST
DTSTART:20240331T010000
END:DAYLIGHT
BEGIN:STANDARD
TZOFFSETFROM:+0200
TZOFFSETTO:+0100
TZNAME:CET
DTSTART:20241027T010000
END:STANDARD
END:VTIMEZONE
BEGIN:VEVENT
DTSTART;TZID=Europe/Warsaw:20230906T220000
DTEND;TZID=Europe/Warsaw:20230906T220000
DTSTAMP:20260421T045705
CREATED:20230816T104550Z
LAST-MODIFIED:20230906T072829Z
UID:10000124-1694037600-1694037600@filharmoniasudecka.pl
SUMMARY:Koncert podczas XXXII Forum Ekonomicznego w Karpaczu
DESCRIPTION:06.09.2023\, środa\nKarpacz\nKoncert podczas XXXII Forum Ekonomicznego \nProgram:\nŁukasz Bzowski Folk Sketches for Orchestra (prawykonanie)\nSiew Symfonicznie – pieśni ludowe w orkiestracji Ł. Bzowskiego:\nMój wianeczku\nPo dużym jeziorze\nŚcieni dąbek\nTam pod lasem\nWyjrzyjcież mi moja mamo\nAj lulaj\, lulaj\nRuta \nWykonawcy:\nAgnieszka Franków-Żelazny – dyrygent\nZespół Kosy\nOrkiestra Symfoniczna Filharmonii Sudeckiej \nCzas trwania: 60 minut\nCeny biletów: koncert dla uczestników Forum
URL:https://filharmoniasudecka.pl/event/koncert-podczas-xxxii-forum-ekonomicznego-w-karpaczu/
LOCATION:Karpacz
ATTACH;FMTTYPE=image/jpeg:https://filharmoniasudecka.pl/wp-content/uploads/2023/06/Siew-symfonicznie.jpg
END:VEVENT
END:VCALENDAR