BEGIN:VCALENDAR
VERSION:2.0
PRODID:-//Filharmonia Sudecka - ECPv6.15.16//NONSGML v1.0//EN
CALSCALE:GREGORIAN
METHOD:PUBLISH
X-WR-CALNAME:Filharmonia Sudecka
X-ORIGINAL-URL:https://filharmoniasudecka.pl
X-WR-CALDESC:Wydarzenia dla Filharmonia Sudecka
REFRESH-INTERVAL;VALUE=DURATION:PT1H
X-Robots-Tag:noindex
X-PUBLISHED-TTL:PT1H
BEGIN:VTIMEZONE
TZID:Europe/Warsaw
BEGIN:DAYLIGHT
TZOFFSETFROM:+0100
TZOFFSETTO:+0200
TZNAME:CEST
DTSTART:20250330T010000
END:DAYLIGHT
BEGIN:STANDARD
TZOFFSETFROM:+0200
TZOFFSETTO:+0100
TZNAME:CET
DTSTART:20251026T010000
END:STANDARD
BEGIN:DAYLIGHT
TZOFFSETFROM:+0100
TZOFFSETTO:+0200
TZNAME:CEST
DTSTART:20260329T010000
END:DAYLIGHT
BEGIN:STANDARD
TZOFFSETFROM:+0200
TZOFFSETTO:+0100
TZNAME:CET
DTSTART:20261025T010000
END:STANDARD
BEGIN:DAYLIGHT
TZOFFSETFROM:+0100
TZOFFSETTO:+0200
TZNAME:CEST
DTSTART:20270328T010000
END:DAYLIGHT
BEGIN:STANDARD
TZOFFSETFROM:+0200
TZOFFSETTO:+0100
TZNAME:CET
DTSTART:20271031T010000
END:STANDARD
END:VTIMEZONE
BEGIN:VEVENT
DTSTART;TZID=Europe/Warsaw:20260522T190000
DTEND;TZID=Europe/Warsaw:20260522T190000
DTSTAMP:20260420T140901
CREATED:20250618T080013Z
LAST-MODIFIED:20260311T112017Z
UID:10000432-1779476400-1779476400@filharmoniasudecka.pl
SUMMARY:BIBOBIT/OSIECKA: Bossanova do poduszki
DESCRIPTION:22.05.2026\, piątek\, godz. 19:00\nWałbrzych\, Filharmonia Sudecka\nBIBOBIT/OSIECKA: Bossanova do poduszki \nWykonawcy\nZespół Bibobit w składzie:\nDaniel Moszczyński — wokal\nWaldemar Franczyk — perkusja\nBartłomiej Pietsch — gitara basowa\nAdam Lemańczyk — piano\, instrumenty klawiszowe\nJacek Piskorz — piano\nTomasz Orłowski — trąbka\nJan Adamczewski — saksofon\nKwintet smyczkowy Orkiestry Symfonicznej Filharmonii Sudeckiej \nProgram\nUtwory z albumu BIBOBIT/OSIECKA Co to za czas:\nOsiecka 1\nCo to za czas\nKobiety\, których nie ma\nKsiężyc frajer\nOsiecka 2\nUroda\nOsiecka 3\nLudzkie gadanie\nOsiecka 4\nZielono mi\nOsiecka 5\nGaj\nStan podgorączkowy\nOsiecka 6\nŻycie nie stawia pytań\nNiech żyje bal\nOsiecka 7\nRozmowy poety z komornikiem\nOsiecka 8\nMałgośka\nGaj (extra version) \nCzas trwania: 90 minut (bez przerwy)\nCeny biletów: 80 / 60 zł \n \n  \n  \nO koncercie\nBIBOBIT / OSIECKA to wysokoenergetyczny\, elektryzujący i (także dosłownie) poruszający spektakl. W tej podróży przez nowoczesny jazz i elektronikę słowo nie schodzi na drugi plan\, a raczej staje się przepustką do wewnętrznego świata autorki. Osiecka jest w niej przewodnikiem we własnej osobie\, bo to jej głos jest narratorem tego przedsięwzięcia. Na bazie koncertu powstał wydany w październiku\, w 85-tą rocznicę urodzin Osieckiej album BIBOBIT/OSIECKA „Co to za czas”. Album został ogłoszony trzecią najlepszą płytą z muzyką polską 2021 roku (portal onet.pl). \nZapowiedź koncertu \n 
URL:https://filharmoniasudecka.pl/event/bossanova-do-poduszki/
LOCATION:Sala Koncertowa Filharmonii Sudeckiej\, Słowackiego 4\, Wałbrzych\, Wałbrzych\, 58-300\, Poland
CATEGORIES:Koncert kameralny,Koncert specjalny
ATTACH;FMTTYPE=image/jpeg:https://filharmoniasudecka.pl/wp-content/uploads/2025/06/607883737_1506088124858721_141018756308574853_n.jpg
END:VEVENT
BEGIN:VEVENT
DTSTART;TZID=Europe/Warsaw:20260523T180000
DTEND;TZID=Europe/Warsaw:20260523T180000
DTSTAMP:20260420T140901
CREATED:20260315T194705Z
LAST-MODIFIED:20260316T143743Z
UID:10000543-1779559200-1779559200@filharmoniasudecka.pl
SUMMARY:About Chopin...\, Maciej Tubis koncert solo
DESCRIPTION:23.05.2026\, sobota\, godz. 18:00\nWałbrzych\, Filharmonia Sudecka\nAbout Chopin… \nWykonawcy\nMaciej Tubis — fortepian \nProgram\ngodz. 18:00 Koncert:\n \nImprowizacja. Poszukiwanie. Odwaga\, by nie odtwarzać\, lecz mówić własnym głosem. Dziś\, po ponad dwudziestu latach\, wracam do Chopina — ale już inaczej. Z całym bagażem doświadczeń\, emocji i wolności. Nie rekonstruuję. Nie kopiuję. Pozwalam jego muzyce przejść przeze mnie i zabrzmieć na nowo. \nCzas trwania: 70 minut (bez przerwy)\nCeny biletów: 40 / 20 zł \n  \n \n 
URL:https://filharmoniasudecka.pl/event/about-chopin-maciej-tubis-koncert-solo/
LOCATION:Sala Koncertowa Filharmonii Sudeckiej\, Słowackiego 4\, Wałbrzych\, Wałbrzych\, 58-300\, Poland
ATTACH;FMTTYPE=image/png:https://filharmoniasudecka.pl/wp-content/uploads/2026/03/2026-05-23-About-Chopin.-712x1072-1.png
END:VEVENT
BEGIN:VEVENT
DTSTART;TZID=Europe/Warsaw:20260529T190000
DTEND;TZID=Europe/Warsaw:20260529T190000
DTSTAMP:20260420T140901
CREATED:20250618T080048Z
LAST-MODIFIED:20260330T081603Z
UID:10000434-1780081200-1780081200@filharmoniasudecka.pl
SUMMARY:Zapiski z życia artysty
DESCRIPTION:29.05.2026\, piątek\, godz. 19:00\nWałbrzych\, Filharmonia Sudecka\nZapiski z życia artysty \nWykonawcy\nRadosław Droń — dyrygent\nAnna Osowska-Kud — skrzypce\nWojciech Kud — wiolonczela\nPiotr Łukaszczyk — fortepian\nOrkiestra Symfoniczna Filharmonii Sudeckiej \nProgram\ngodz. 18:00 Rozmowy w C-dur — spotkanie z artystami przed koncertem (wstęp wolny dla osób posiadających bilet na koncert) \ngodz. 19:00 Koncert:\nLudwig van Beethoven — Koncert potrójny C-dur op. 56     (38′)\nLudwig van Beethoven — VII Symfonia A-dur op. 92     (42′) \nCzas trwania: 80 minut (z przerwą)\nCeny biletów: 60 / 40 zł \n 
URL:https://filharmoniasudecka.pl/event/zapiski-z-zycia-artysty/
LOCATION:Sala Koncertowa Filharmonii Sudeckiej\, Słowackiego 4\, Wałbrzych\, Wałbrzych\, 58-300\, Poland
CATEGORIES:Koncert symfoniczny
ATTACH;FMTTYPE=image/png:https://filharmoniasudecka.pl/wp-content/uploads/2025/06/Slepak.png
END:VEVENT
BEGIN:VEVENT
DTSTART;TZID=Europe/Warsaw:20260530T180000
DTEND;TZID=Europe/Warsaw:20260530T180000
DTSTAMP:20260420T140901
CREATED:20260309T104728Z
LAST-MODIFIED:20260413T073144Z
UID:10000539-1780164000-1780164000@filharmoniasudecka.pl
SUMMARY:EFEKT CHOPINA: Recital fortepianowy - Antoni Kłeczek
DESCRIPTION:30.05.2026\, sobota\, godz. 18:00\nWałbrzych\, Filharmonia Sudecka\nEFEKT CHOPINA: Recital fortepianowy – Antoni Kłeczek \nWykonawcy\nAntoni Kłeczek – fortepian \nProgram\nJohannes Brahms – Wariacje na temat Paganiniego\, op. 35 (I zeszyt)\nJohannes Brahms – Intermezzo A-dur\, op. 118\nFryderyk Chopin – Mazurki\, op. 50\nFryderyk Chopin – Nokturn Es-dur op. 55 nr 2\nFryderyk Chopin – Ballada f-moll op. 52\nFryderyk Chopin – Polonez As-dur op. 53 \nCzas trwania: 60 minut (bez przerwy)\nCeny biletów: 40 / 20 zł \n \n  \n  \nO koncercie\nWarszawa – na co dzień stolica Polski\, a co pięć lat stolica światowej pianistyki. Od niemal stu lat\, od pierwszej edycji Konkursu w 1927 roku\, oczy muzycznego świata zwrócone są na budynek przy ulicy Jasnej 5. To właśnie w gmachu Filharmonia Narodowa nastrojowe nokturny i charakterystyczne mazurki\, rozbudowane sonaty i ballady\, popisowe etiudy oraz kunsztowne wariacje\, a także dwa koncerty z towarzyszeniem orkiestry sprawiają\, że „poeta fortepianu” pozostaje wciąż żywy. \n„Szukamy nie po prostu pianisty\, ale prawdziwego artysty\, który czuje Chopina\, kocha Chopina\, a poza tym posiada kreatywną osobowość artystyczną. Takich pianistów poszukujemy” – prof. Piotr Paleczny (przewodniczący Jury konkursowego\, 2025) \nTegoroczna XIX edycja Konkursu okazała się rekordowa – spośród 642 pianistów zachwycających „czuciem” Chopina międzynarodowe Jury wyłoniło 85 pianistów i pianistek z 20 krajów\, w tym 13 reprezentantów Polski. Choć już sam udział w tym wydarzeniu jest ogromnym wyróżnieniem\, a zdobycie jednej z nagród otwiera drzwi do światowej kariery\, wciąż czekamy na kolejnego Polaka\, który pójdzie w ślady: Halina Czerny-Stefańska (1949)\, Adam Harasiewicz (1955)\, Krystian Zimerman (1975) oraz Rafał Blechacz (2005) – polskich zwycięzców tego prestiżowego Konkursu. \nDziś wiemy już\, że na kolejny triumf naszego rodaka będziemy musieli jeszcze poczekać. XIX Międzynarodowy Konkurs Pianistyczny im. Fryderyka Chopina w 2025 roku zakończył się zwycięstwem amerykańskiego pianisty Erica Lu. Wśród polskich uczestników najwyżej sklasyfikowany został Piotr Alexewicz\, zdobywając V nagrodę. \nKontynuując współpracę z Narodowym Instytutem Fryderyka Chopina\, także w tym roku zapraszamy Państwa na spotkania z uczestnikami eliminacji oraz głównego etapu ubiegłorocznej edycji podczas recitali Efekt Chopina. To wyjątkowa okazja\, by zobaczyć\, jak młodzi artyści z radością zasiadają przy fortepianie i porywają publiczność swoją techniką oraz interpretacjami dzieł Chopina. \nJakub Karmelita \n  \nKoncerty odbywają się w ramach cyklu Efekt Chopina realizowanego przez Narodowy Instytut Fryderyka Chopina we współpracy z Filharmonią Sudecką.
URL:https://filharmoniasudecka.pl/event/efekt-chopina-antoni-kleczek/
LOCATION:Sala Koncertowa Filharmonii Sudeckiej\, Słowackiego 4\, Wałbrzych\, Wałbrzych\, 58-300\, Poland
CATEGORIES:Koncert kameralny
ATTACH;FMTTYPE=image/png:https://filharmoniasudecka.pl/wp-content/uploads/2025/06/Slepak.png
END:VEVENT
BEGIN:VEVENT
DTSTART;TZID=Europe/Warsaw:20260531T110000
DTEND;TZID=Europe/Warsaw:20260531T110000
DTSTAMP:20260420T140901
CREATED:20250618T080050Z
LAST-MODIFIED:20260401T134055Z
UID:10000435-1780225200-1780225200@filharmoniasudecka.pl
SUMMARY:Koncert na Dzień Dziecka: Co powie tata?
DESCRIPTION:31.05.2026\, niedziela\, godz. 11:00\nWałbrzych\, Filharmonia Sudecka\nKoncert na Dzień Dziecka: Co powie tata? \nWykonawcy\nChór Dziecięcy Filharmonii Sudeckiej\nEnsemble Zdemaskowani z Zespołu Szkół Muzycznych im. Fryderyka Chopina w Legnicy:\nPola Grondys — skrzypce\nAntek Galusiński — skrzypce\nMaja Sierpina — skrzypce\nJulia Wańkowicz — skrzypce\nHelena Wańkowicz — altówka\nEwa Krężel — wiolonczela\nGabriel Świder — kontrabas\nEnsemble Mocna Struna z Zespołu Szkół Muzycznych im. Stanisława Moniuszki w Wałbrzychu:\nAleksandra Grzesiak — skrzypce\nAgata Sztonyk — skrzypce\nMaksymilian Piątek — altówka\nKamil Klein — wiolonczela\nNatalia Tomaszewicz — kontrabas\nAnna Kupczyńska — dyrygent\, prowadzenie koncertu\, przygotowanie chóru\nPaweł Stuczyński — przygotowanie zespołów\, aranże\, fortepian \nProgram\nKołysanki w nowej odsłonie:\nDlaczego nie chcesz spać\nTa Dorotka\nDobrej nocy i sza\nIdzie niebo ciemną nocą\nSiwa chmurka\nW muszelkach twoich dłoni\nKołysanka dla okruszka\nBył sobie król\nZ popielnika na Wojtusia\nStary niedźwiedź\nZłotowłosa królewna\nSenna kołysanka\nSłoneczko już\nJuż gwiazdy lśnią\nLaleczka z saskiej porcelany\n\nCzas trwania: 70 minut (bez przerwy)\nCeny biletów: 20 zł\n 
URL:https://filharmoniasudecka.pl/event/koncert-na-dzien-dziecka-co-powie-tata/
LOCATION:Sala Koncertowa Filharmonii Sudeckiej\, Słowackiego 4\, Wałbrzych\, Wałbrzych\, 58-300\, Poland
CATEGORIES:Koncert kameralny
ATTACH;FMTTYPE=image/png:https://filharmoniasudecka.pl/wp-content/uploads/2025/06/Slepak.png
END:VEVENT
BEGIN:VEVENT
DTSTART;TZID=Europe/Warsaw:20260601T100000
DTEND;TZID=Europe/Warsaw:20260601T100000
DTSTAMP:20260420T140901
CREATED:20260224T123541Z
LAST-MODIFIED:20260224T133741Z
UID:10000537-1780308000-1780308000@filharmoniasudecka.pl
SUMMARY:Poranki Muzyczne dla szkół i przedszkoli: Muzyka na lato
DESCRIPTION:1.06.2026\, poniedziałek\, godz. 10:00\nWałbrzych\, Filharmonia Sudecka\nPoranki Muzyczne dla szkół i przedszkoli: Muzyka na lato \nWykonawcy\nEnsemble Zdemaskowani z Zespołu Szkół Muzycznych im. Fryderyka Chopina w Legnicy\nPaweł Stuczyński — aranżacje i fortepian\nBogusława Kawalec — prowadzenie \nProgram\nMuzyka filmowa \nCzas trwania: 45 minut\nCeny biletów: 15 zł \n 
URL:https://filharmoniasudecka.pl/event/poranki-muzyczne-dla-szkol-i-przedszkoli-muzyka-na-lato/
LOCATION:Sala Koncertowa Filharmonii Sudeckiej\, Słowackiego 4\, Wałbrzych\, Wałbrzych\, 58-300\, Poland
ATTACH;FMTTYPE=image/png:https://filharmoniasudecka.pl/wp-content/uploads/2026/02/PM_01.06.2026.png
END:VEVENT
BEGIN:VEVENT
DTSTART;TZID=Europe/Warsaw:20260606T180000
DTEND;TZID=Europe/Warsaw:20260606T180000
DTSTAMP:20260420T140901
CREATED:20250618T080002Z
LAST-MODIFIED:20251128T144202Z
UID:10000436-1780768800-1780768800@filharmoniasudecka.pl
SUMMARY:Stoliczku nakryj się!
DESCRIPTION:06.06.2026\, sobota\, godz. 18:00\nWałbrzych\, Filharmonia Sudecka\nStoliczku nakryj się! \nWykonawcy\nTadeusz Wicherek — dyrygent\nOrkiestra Symfoniczna Filharmonii Sudeckiej \nProgram\nPoematy symfoniczne:\nMariusz Matuszewski — Stoliczku\, nakryj się\nMariusz Matuszewski — Jaś i Małgosia\nTekst: Grzegorz Tomczak\nLektorzy: Gabriela Oberbek\, Janusz Zadura\nIlustracje: Krzysztof Kałucki\, Jakub Grabowski\nAnimacje: Anna Falacińska\, Mateusz Kluczny \nCzas trwania: 60 minut (bez przerwy)\nCeny biletów: 60 / 40 zł \n 
URL:https://filharmoniasudecka.pl/event/stoliczku-nakryj-sie/
LOCATION:Sala Koncertowa Filharmonii Sudeckiej\, Słowackiego 4\, Wałbrzych\, Wałbrzych\, 58-300\, Poland
CATEGORIES:Koncert symfoniczny
ATTACH;FMTTYPE=image/png:https://filharmoniasudecka.pl/wp-content/uploads/2025/06/Slepak.png
END:VEVENT
BEGIN:VEVENT
DTSTART;TZID=Europe/Warsaw:20260612T190000
DTEND;TZID=Europe/Warsaw:20260612T190000
DTSTAMP:20260420T140901
CREATED:20250618T080051Z
LAST-MODIFIED:20260330T082211Z
UID:10000438-1781290800-1781290800@filharmoniasudecka.pl
SUMMARY:Italia\, mi piace!
DESCRIPTION:12.06.2026\, piątek\, godz. 19:00\nWałbrzych\, Filharmonia Sudecka\nItalia\, mi piace! \nWykonawcy\nPaweł Kotla — dyrygent\nMarie Helling — skrzypce\, laureatka Grand Prix Konkursu skrzypcowego Młody Paganini Legnica 2024\nOrkiestra Symfoniczna Filharmonii Sudeckiej \nProgram\ngodz. 18:00 Rozmowy w C-dur — spotkanie z artystami przed koncertem (wstęp wolny dla osób posiadających bilet na koncert) \ngodz. 19:00 Koncert:\nNiccolò Paganini — Koncert skrzypcowy D-dur     (40′)\nOttorino Respighi — Fontanny rzymskie     (18′)\nPiotr Czajkowski — Kaprys włoski op. 45     (15′)\nHector Berlioz — Uwertura \,\,Karnawał rzymski”\, op. 9    (10′) \nCzas trwania: 105 minut (z przerwą)\nCeny biletów: 60 / 40 zł \n 
URL:https://filharmoniasudecka.pl/event/italia-mi-piace/
LOCATION:Sala Koncertowa Filharmonii Sudeckiej\, Słowackiego 4\, Wałbrzych\, Wałbrzych\, 58-300\, Poland
CATEGORIES:Koncert symfoniczny
ATTACH;FMTTYPE=image/png:https://filharmoniasudecka.pl/wp-content/uploads/2025/06/Slepak.png
END:VEVENT
BEGIN:VEVENT
DTSTART;TZID=Europe/Warsaw:20260619T190000
DTEND;TZID=Europe/Warsaw:20260619T190000
DTSTAMP:20260420T140901
CREATED:20250618T080051Z
LAST-MODIFIED:20260413T090637Z
UID:10000439-1781895600-1781895600@filharmoniasudecka.pl
SUMMARY:Arcydzieła\, premiery i potęga perkusji
DESCRIPTION:19.06.2026\, piątek\, godz. 19:00\nWałbrzych\, Filharmonia Sudecka\nArcydzieła\, premiery i potęga perkusji \nWykonawcy\nPiotr Sutt — dyrygent\, kompozytor\, wibrafon\nKarolina Vallo Sutt — skrzypce\nBartłomiej Sutt — instrumenty perkusyjne\nGdańska Grupa Perkusyjna Jeunesses Musicales w składzie:\nMaria Zubrzycka\nOliwia Wojciechowska\nWiktor Sinkiewicz\nJan Stolarek\nFranciszek Szczepański\nChór Mieszany Filharmonii Sudeckiej\nMarta Moneta-Napierała — przygotowanie chóru\nOrkiestra Symfoniczna Filharmonii Sudeckiej \nProgram\nPiotr Komorowski — Koncert na wibrafon i orkiestrę kameralną (premiera)\nPrzemysław Pacek — TBA (premiera)\nPiotr Sutt — ConStrOi! na skrzypce\, wibrafon\, zespół perkusyjny\, chór\, orkiestrę symfoniczną\, audio i video\nGiacomo Puccini/Grzegorz i Piotr Sutt — Suita Turandot na zespół perkusyjny\, skrzypce i orkiestrę symfoniczną\n \nCzas trwania: 100 minut (z przerwą)\nCeny biletów: 60 / 40 zł \n 
URL:https://filharmoniasudecka.pl/event/arcydziela-premiery-i-potega-perkusji/
LOCATION:Sala Koncertowa Filharmonii Sudeckiej\, Słowackiego 4\, Wałbrzych\, Wałbrzych\, 58-300\, Poland
CATEGORIES:Koncert symfoniczny
ATTACH;FMTTYPE=image/png:https://filharmoniasudecka.pl/wp-content/uploads/2025/06/Slepak.png
END:VEVENT
BEGIN:VEVENT
DTSTART;TZID=Europe/Warsaw:20260620T180000
DTEND;TZID=Europe/Warsaw:20260620T180000
DTSTAMP:20260420T140901
CREATED:20250618T080053Z
LAST-MODIFIED:20251128T144603Z
UID:10000433-1781978400-1781978400@filharmoniasudecka.pl
SUMMARY:Na początku była sonata
DESCRIPTION:20.06.2026\, sobota\, godz. 18:00\nWałbrzych\, Filharmonia Sudecka\nNa początku była sonata \nWykonawcy\nDorota Graca-Kosek — skrzypce\nMateusz Mroczek — skrzypce\nMichał Bień — wiolonczela\nPiotr Łukaszczyk — fortepian \nProgram\nCésar Franck — Sonata skrzypcowa A-dur\nEdvard Grieg — Sonata skrzypcowa c-moll\nSamuel Barber — Sonata na wiolonczelę i fortepian  op. 6 c-moll \nCzas trwania: 70 minut (bez przerwy)\nCeny biletów: 40 / 20 zł \n 
URL:https://filharmoniasudecka.pl/event/na-poczatku-byla-sonata/
LOCATION:Sala Koncertowa Filharmonii Sudeckiej\, Słowackiego 4\, Wałbrzych\, Wałbrzych\, 58-300\, Poland
CATEGORIES:Koncert kameralny
ATTACH;FMTTYPE=image/png:https://filharmoniasudecka.pl/wp-content/uploads/2025/06/Slepak.png
END:VEVENT
BEGIN:VEVENT
DTSTART;TZID=Europe/Warsaw:20260621T110000
DTEND;TZID=Europe/Warsaw:20260621T110000
DTSTAMP:20260420T140901
CREATED:20250618T080022Z
LAST-MODIFIED:20260413T090745Z
UID:10000440-1782039600-1782039600@filharmoniasudecka.pl
SUMMARY:Koncert Familijny w Filharmonii Sudeckiej: Z perkusją w plecaku
DESCRIPTION:21.06.2026\, niedziela\, godz. 11:00\nWałbrzych\, Filharmonia Sudecka\nKoncert Familijny w Filharmonii Sudeckiej: Z perkusją w plecaku \nWykonawcy\nPiotr Sutt — dyrygent\, prowadzenie koncertu\, instrumenty perkusyjne\nKarolina Vallo Sutt — skrzypce\nGdańska Grupa Perkusyjna Jeunesses Musicales w składzie:\nMaria Zubrzycka\nOliwia Wojciechowska\nWiktor Sinkiewicz\nJan Stolarek\nFranciszek Szczepański\nFranciszek Olbryś\nTymon Namiotko\nChór Mieszany Filharmonii Sudeckiej\nMarta Moneta-Napierała — przygotowanie chóru\n \nProgram\nMuzyczna podróż przez świat rytmów\, melodii i najpiękniejszych instrumentów perkusyjnych z odległych części świata — to przygotowanie do wakacyjnych wojaży poznawania kontynentów i przyjaciół z innych krajów. Niektóre instrumenty zmieszczą się w każdym plecaku inne w ogromnej ciężarówce — wspólnie spakujemy najważniejsze melodie i rytmy niezbędne do podboju świata. Połączenie tradycji minionych kultur z nowoczesną technologią\, szlachetności brzmienia skrzypiec i nieskończonego bogactwa brzmienia instrumentów perkusyjnych oraz tradycyjnych rytmów z najpiękniejszymi melodiami to rozdziały wakacyjnego muzycznego przewodnika po dźwiękach świata. Usłyszymy utwory z Azji\, Afryki\, Europy\, Australii oraz obu Ameryk! Zapraszamy. \nCzas trwania: 75 minut (bez przerwy)\nCeny biletów: 25 zł \n 
URL:https://filharmoniasudecka.pl/event/koncert-familijny-z-perkusja-w-plecaku/
LOCATION:Sala Koncertowa Filharmonii Sudeckiej\, Słowackiego 4\, Wałbrzych\, Wałbrzych\, 58-300\, Poland
CATEGORIES:Koncert Familijny
ATTACH;FMTTYPE=image/png:https://filharmoniasudecka.pl/wp-content/uploads/2025/06/Slepak.png
END:VEVENT
BEGIN:VEVENT
DTSTART;TZID=Europe/Warsaw:20260626T190000
DTEND;TZID=Europe/Warsaw:20260626T190000
DTSTAMP:20260420T140901
CREATED:20250618T080025Z
LAST-MODIFIED:20251128T144845Z
UID:10000441-1782500400-1782500400@filharmoniasudecka.pl
SUMMARY:Niebo pełne jest skrzypiec - zakończenie sezonu
DESCRIPTION:26.06.2026\, piątek\, godz. 19:00\nWałbrzych\, Filharmonia Sudecka\nNiebo pełne jest skrzypiec — zakończenie sezonu \nWykonawcy\nMaciej Tomasiewicz — dyrygent\nEwa Tracz — sopran\nOrkiestra Symfoniczna Filharmonii Sudeckiej \nProgram\ngodz. 18:00 Rozmowy w C-dur — spotkanie z artystami przed koncertem (wstęp wolny dla osób posiadających bilet na koncert) \ngodz. 19:00 Koncert:\nGustav Mahler — IV Symfonia G-dur     (54′)\n \nCzas trwania: 75 minut (bez przerwy)\nCeny biletów: 60 / 40 zł \n 
URL:https://filharmoniasudecka.pl/event/niebo-pelne-jest-skrzypiec/
LOCATION:Sala Koncertowa Filharmonii Sudeckiej\, Słowackiego 4\, Wałbrzych\, Wałbrzych\, 58-300\, Poland
CATEGORIES:Koncert symfoniczny
ATTACH;FMTTYPE=image/png:https://filharmoniasudecka.pl/wp-content/uploads/2025/06/Slepak.png
END:VEVENT
BEGIN:VEVENT
DTSTART;TZID=Europe/Warsaw:20260627T180000
DTEND;TZID=Europe/Warsaw:20260627T180000
DTSTAMP:20260420T140901
CREATED:20260309T105230Z
LAST-MODIFIED:20260309T105230Z
UID:10000540-1782583200-1782583200@filharmoniasudecka.pl
SUMMARY:EFEKT CHOPINA: Recital fortepianowy - Yehuda Prokopowicz
DESCRIPTION:27.06.2026\, sobota\, godz. 18:00\nWałbrzych\, Filharmonia Sudecka\nEFEKT CHOPINA: Recital fortepianowy – Yehuda Prokopowicz \nWykonawcy\nYehuda Prokopowicz – fortepian \nProgram\nFryderyk Chopin:\nTBA \nCzas trwania: TBA\nCeny biletów: 40 / 20 zł \n \n  \n  \nO koncercie\nWarszawa – na co dzień stolica Polski\, a co pięć lat stolica światowej pianistyki. Od niemal stu lat\, od pierwszej edycji Konkursu w 1927 roku\, oczy muzycznego świata zwrócone są na budynek przy ulicy Jasnej 5. To właśnie w gmachu Filharmonia Narodowa nastrojowe nokturny i charakterystyczne mazurki\, rozbudowane sonaty i ballady\, popisowe etiudy oraz kunsztowne wariacje\, a także dwa koncerty z towarzyszeniem orkiestry sprawiają\, że „poeta fortepianu” pozostaje wciąż żywy. \n„Szukamy nie po prostu pianisty\, ale prawdziwego artysty\, który czuje Chopina\, kocha Chopina\, a poza tym posiada kreatywną osobowość artystyczną. Takich pianistów poszukujemy” – prof. Piotr Paleczny (przewodniczący Jury konkursowego\, 2025) \nTegoroczna XIX edycja Konkursu okazała się rekordowa – spośród 642 pianistów zachwycających „czuciem” Chopina międzynarodowe Jury wyłoniło 85 pianistów i pianistek z 20 krajów\, w tym 13 reprezentantów Polski. Choć już sam udział w tym wydarzeniu jest ogromnym wyróżnieniem\, a zdobycie jednej z nagród otwiera drzwi do światowej kariery\, wciąż czekamy na kolejnego Polaka\, który pójdzie w ślady: Halina Czerny-Stefańska (1949)\, Adam Harasiewicz (1955)\, Krystian Zimerman (1975) oraz Rafał Blechacz (2005) – polskich zwycięzców tego prestiżowego Konkursu. \nDziś wiemy już\, że na kolejny triumf naszego rodaka będziemy musieli jeszcze poczekać. XIX Międzynarodowy Konkurs Pianistyczny im. Fryderyka Chopina w 2025 roku zakończył się zwycięstwem amerykańskiego pianisty Erica Lu. Wśród polskich uczestników najwyżej sklasyfikowany został Piotr Alexewicz\, zdobywając V nagrodę. \nKontynuując współpracę z Narodowym Instytutem Fryderyka Chopina\, także w tym roku zapraszamy Państwa na spotkania z uczestnikami eliminacji oraz głównego etapu ubiegłorocznej edycji podczas recitali Efekt Chopina. To wyjątkowa okazja\, by zobaczyć\, jak młodzi artyści z radością zasiadają przy fortepianie i porywają publiczność swoją techniką oraz interpretacjami dzieł Chopina. \nJakub Karmelita \n  \nKoncerty odbywają się w ramach cyklu Efekt Chopina realizowanego przez Narodowy Instytut Fryderyka Chopina we współpracy z Filharmonią Sudecką. \n \n 
URL:https://filharmoniasudecka.pl/event/efekt-chopina-yehuda-prokopowicz/
LOCATION:Sala Koncertowa Filharmonii Sudeckiej\, Słowackiego 4\, Wałbrzych\, Wałbrzych\, 58-300\, Poland
CATEGORIES:Koncert kameralny
ATTACH;FMTTYPE=image/png:https://filharmoniasudecka.pl/wp-content/uploads/2025/06/Slepak.png
END:VEVENT
BEGIN:VEVENT
DTSTART;TZID=Europe/Warsaw:20260919T180000
DTEND;TZID=Europe/Warsaw:20260919T180000
DTSTAMP:20260420T140901
CREATED:20260309T110453Z
LAST-MODIFIED:20260309T110453Z
UID:10000541-1789840800-1789840800@filharmoniasudecka.pl
SUMMARY:EFEKT CHOPINA: Recital fortepianowy - Zuzanna Sejbuk
DESCRIPTION:19.09.2026\, sobota\, godz. 18:00\nWałbrzych\, Filharmonia Sudecka\nEFEKT CHOPINA: Recital fortepianowy – Zuzanna Sejbuk \nWykonawcy\nZuzanna Sejbuk – fortepian \nProgram\nFryderyk Chopin:\nTBA \nCzas trwania: TBA\nCeny biletów: 40 / 20 zł \n \n  \n  \nO koncercie\nWarszawa – na co dzień stolica Polski\, a co pięć lat stolica światowej pianistyki. Od niemal stu lat\, od pierwszej edycji Konkursu w 1927 roku\, oczy muzycznego świata zwrócone są na budynek przy ulicy Jasnej 5. To właśnie w gmachu Filharmonia Narodowa nastrojowe nokturny i charakterystyczne mazurki\, rozbudowane sonaty i ballady\, popisowe etiudy oraz kunsztowne wariacje\, a także dwa koncerty z towarzyszeniem orkiestry sprawiają\, że „poeta fortepianu” pozostaje wciąż żywy. \n„Szukamy nie po prostu pianisty\, ale prawdziwego artysty\, który czuje Chopina\, kocha Chopina\, a poza tym posiada kreatywną osobowość artystyczną. Takich pianistów poszukujemy” – prof. Piotr Paleczny (przewodniczący Jury konkursowego\, 2025) \nTegoroczna XIX edycja Konkursu okazała się rekordowa – spośród 642 pianistów zachwycających „czuciem” Chopina międzynarodowe Jury wyłoniło 85 pianistów i pianistek z 20 krajów\, w tym 13 reprezentantów Polski. Choć już sam udział w tym wydarzeniu jest ogromnym wyróżnieniem\, a zdobycie jednej z nagród otwiera drzwi do światowej kariery\, wciąż czekamy na kolejnego Polaka\, który pójdzie w ślady: Halina Czerny-Stefańska (1949)\, Adam Harasiewicz (1955)\, Krystian Zimerman (1975) oraz Rafał Blechacz (2005) – polskich zwycięzców tego prestiżowego Konkursu. \nDziś wiemy już\, że na kolejny triumf naszego rodaka będziemy musieli jeszcze poczekać. XIX Międzynarodowy Konkurs Pianistyczny im. Fryderyka Chopina w 2025 roku zakończył się zwycięstwem amerykańskiego pianisty Erica Lu. Wśród polskich uczestników najwyżej sklasyfikowany został Piotr Alexewicz\, zdobywając V nagrodę. \nKontynuując współpracę z Narodowym Instytutem Fryderyka Chopina\, także w tym roku zapraszamy Państwa na spotkania z uczestnikami eliminacji oraz głównego etapu ubiegłorocznej edycji podczas recitali Efekt Chopina. To wyjątkowa okazja\, by zobaczyć\, jak młodzi artyści z radością zasiadają przy fortepianie i porywają publiczność swoją techniką oraz interpretacjami dzieł Chopina. \nJakub Karmelita \n  \nKoncerty odbywają się w ramach cyklu Efekt Chopina realizowanego przez Narodowy Instytut Fryderyka Chopina we współpracy z Filharmonią Sudecką.
URL:https://filharmoniasudecka.pl/event/efekt-chopina-zuzanna-sejbuk/
LOCATION:Sala Koncertowa Filharmonii Sudeckiej\, Słowackiego 4\, Wałbrzych\, Wałbrzych\, 58-300\, Poland
CATEGORIES:Koncert kameralny
ATTACH;FMTTYPE=image/png:https://filharmoniasudecka.pl/wp-content/uploads/2025/06/Slepak.png
END:VEVENT
BEGIN:VEVENT
DTSTART;TZID=Europe/Warsaw:20261003T180000
DTEND;TZID=Europe/Warsaw:20261003T180000
DTSTAMP:20260420T140901
CREATED:20260309T111205Z
LAST-MODIFIED:20260309T111205Z
UID:10000542-1791050400-1791050400@filharmoniasudecka.pl
SUMMARY:EFEKT CHOPINA: Recital fortepianowy - Mateusz Tomica
DESCRIPTION:3.10.2026\, sobota\, godz. 18:00\nWałbrzych\, Filharmonia Sudecka\nEFEKT CHOPINA: Recital fortepianowy – Mateusz Tomica \nWykonawcy\nMateusz Tomica – fortepian \nProgram\nFryderk Chopin:\nTBA \nCzas trwania: TBA\nCeny biletów: 40 / 20 zł \n \n  \n  \nO koncercie\nWarszawa – na co dzień stolica Polski\, a co pięć lat stolica światowej pianistyki. Od niemal stu lat\, od pierwszej edycji Konkursu w 1927 roku\, oczy muzycznego świata zwrócone są na budynek przy ulicy Jasnej 5. To właśnie w gmachu Filharmonia Narodowa nastrojowe nokturny i charakterystyczne mazurki\, rozbudowane sonaty i ballady\, popisowe etiudy oraz kunsztowne wariacje\, a także dwa koncerty z towarzyszeniem orkiestry sprawiają\, że „poeta fortepianu” pozostaje wciąż żywy. \n„Szukamy nie po prostu pianisty\, ale prawdziwego artysty\, który czuje Chopina\, kocha Chopina\, a poza tym posiada kreatywną osobowość artystyczną. Takich pianistów poszukujemy” – prof. Piotr Paleczny (przewodniczący Jury konkursowego\, 2025) \nTegoroczna XIX edycja Konkursu okazała się rekordowa – spośród 642 pianistów zachwycających „czuciem” Chopina międzynarodowe Jury wyłoniło 85 pianistów i pianistek z 20 krajów\, w tym 13 reprezentantów Polski. Choć już sam udział w tym wydarzeniu jest ogromnym wyróżnieniem\, a zdobycie jednej z nagród otwiera drzwi do światowej kariery\, wciąż czekamy na kolejnego Polaka\, który pójdzie w ślady: Halina Czerny-Stefańska (1949)\, Adam Harasiewicz (1955)\, Krystian Zimerman (1975) oraz Rafał Blechacz (2005) – polskich zwycięzców tego prestiżowego Konkursu. \nDziś wiemy już\, że na kolejny triumf naszego rodaka będziemy musieli jeszcze poczekać. XIX Międzynarodowy Konkurs Pianistyczny im. Fryderyka Chopina w 2025 roku zakończył się zwycięstwem amerykańskiego pianisty Erica Lu. Wśród polskich uczestników najwyżej sklasyfikowany został Piotr Alexewicz\, zdobywając V nagrodę. \nKontynuując współpracę z Narodowym Instytutem Fryderyka Chopina\, także w tym roku zapraszamy Państwa na spotkania z uczestnikami eliminacji oraz głównego etapu ubiegłorocznej edycji podczas recitali Efekt Chopina. To wyjątkowa okazja\, by zobaczyć\, jak młodzi artyści z radością zasiadają przy fortepianie i porywają publiczność swoją techniką oraz interpretacjami dzieł Chopina. \nJakub Karmelita \n  \nKoncerty odbywają się w ramach cyklu Efekt Chopina realizowanego przez Narodowy Instytut Fryderyka Chopina we współpracy z Filharmonią Sudecką.
URL:https://filharmoniasudecka.pl/event/efekt-chopina-mateusz-tomica/
LOCATION:Sala Koncertowa Filharmonii Sudeckiej\, Słowackiego 4\, Wałbrzych\, Wałbrzych\, 58-300\, Poland
CATEGORIES:Koncert kameralny
ATTACH;FMTTYPE=image/png:https://filharmoniasudecka.pl/wp-content/uploads/2025/06/Slepak.png
END:VEVENT
END:VCALENDAR