BEGIN:VCALENDAR
VERSION:2.0
PRODID:-//Filharmonia Sudecka - ECPv6.15.16//NONSGML v1.0//EN
CALSCALE:GREGORIAN
METHOD:PUBLISH
X-WR-CALNAME:Filharmonia Sudecka
X-ORIGINAL-URL:https://filharmoniasudecka.pl
X-WR-CALDESC:Wydarzenia dla Filharmonia Sudecka
REFRESH-INTERVAL;VALUE=DURATION:PT1H
X-Robots-Tag:noindex
X-PUBLISHED-TTL:PT1H
BEGIN:VTIMEZONE
TZID:Europe/Warsaw
BEGIN:DAYLIGHT
TZOFFSETFROM:+0100
TZOFFSETTO:+0200
TZNAME:CEST
DTSTART:20210328T010000
END:DAYLIGHT
BEGIN:STANDARD
TZOFFSETFROM:+0200
TZOFFSETTO:+0100
TZNAME:CET
DTSTART:20211031T010000
END:STANDARD
BEGIN:DAYLIGHT
TZOFFSETFROM:+0100
TZOFFSETTO:+0200
TZNAME:CEST
DTSTART:20220327T010000
END:DAYLIGHT
BEGIN:STANDARD
TZOFFSETFROM:+0200
TZOFFSETTO:+0100
TZNAME:CET
DTSTART:20221030T010000
END:STANDARD
BEGIN:DAYLIGHT
TZOFFSETFROM:+0100
TZOFFSETTO:+0200
TZNAME:CEST
DTSTART:20230326T010000
END:DAYLIGHT
BEGIN:STANDARD
TZOFFSETFROM:+0200
TZOFFSETTO:+0100
TZNAME:CET
DTSTART:20231029T010000
END:STANDARD
BEGIN:DAYLIGHT
TZOFFSETFROM:+0100
TZOFFSETTO:+0200
TZNAME:CEST
DTSTART:20240331T010000
END:DAYLIGHT
BEGIN:STANDARD
TZOFFSETFROM:+0200
TZOFFSETTO:+0100
TZNAME:CET
DTSTART:20241027T010000
END:STANDARD
END:VTIMEZONE
BEGIN:VEVENT
DTSTART;TZID=Europe/Warsaw:20230120T190000
DTEND;TZID=Europe/Warsaw:20230120T190000
DTSTAMP:20260421T185544
CREATED:20230101T135532Z
LAST-MODIFIED:20230101T140317Z
UID:10000006-1674241200-1674241200@filharmoniasudecka.pl
SUMMARY:Gorąca i tragiczna miłość Cyganki i Torreadora
DESCRIPTION:Habanera (wykonywana przez Carmen podczas I aktu) – zaczyna się od słów L’amour est un oiseau rebelle (Miłość jest wolnym ptakiem)\, które napisał sam Bizet. Jest ona najlepszą charakterystyką głównej bohaterki – niezdolnej do stałego uczucia\, często zmieniającej kochanków. Pieśń świadczy o tym\, że Carmen nie czuje się odpowiedzialna za krzywdę\, którą wyrządza „usidlonym” przez siebie mężczyznom\, co finalnie źle się dla niej kończy. \nWykonawcy: \nRadosław Droń – dyrygent\nDorota Graca – skrzypce\nOrkiestra Symfoniczna Filharmonii Sudeckiej \nProgram: \nE. Chabrier España\nE. Lalò  Symfonia hiszpańska d-moll op. 21\nG. Bizet Suita nr 1 i 2 z opery Carmen
URL:https://filharmoniasudecka.pl/event/goraca-i-tragiczna-milosc-cyganki-i-torreadora/
LOCATION:Milicz\, 56-300\, Poland
END:VEVENT
BEGIN:VEVENT
DTSTART;TZID=Europe/Warsaw:20230114T180000
DTEND;TZID=Europe/Warsaw:20230114T180000
DTSTAMP:20260421T185544
CREATED:20230101T135110Z
LAST-MODIFIED:20230112T175732Z
UID:10000005-1673719200-1673719200@filharmoniasudecka.pl
SUMMARY:Chopin & Małucha - koncert wielkich wyzwań
DESCRIPTION:Ta oryginalna formuła koncertowa ma na celu pobudzić nowy rodzaj doznań muzycznych i dać sporą dawkę pozytywnej energii. \nKoncert ten to przede wszystkim wyzwanie dla jego odbiorcy\, który w pierwszej części zostanie poprowadzony w świat niezwykłej muzyki Fryderyka Chopina\, a w drugiej podąży za muzyką I Koncertu Wrocławskiego w nieznane mu dotąd zakątki\, by po powrocie do rzeczywistości dokonać subiektywnej oceny\, czy cel koncertu został osiągnięty. \n\nWiesław Małucha \nWykonawcy: \nPrzemysław Witek – fortepian \nProgram: \n\n\n\nFryderyk Chopin\nWiesław Małucha\n\n\nBallada g-moll op. 23\nI Koncert Wrocławski na fortepian solo\n\n\nBallada F-dur op. 38\ncz. 1. Andante\n\n\nBallada As-dur op. 47\ncz. 2. Adagio\n\n\nBallada f-moll op. 52\ncz. 3. Lento\n\n\n\nPrzemysław Witek – wirtuoz fortepianu\, pracownik naukowy Akademii Muzycznej w Poznaniu\, postawił przed sobą wyzwanie wykonania kolejno wszystkich czterech Ballad Fryderyka Chopina i następnie I Koncertu Wrocławskiego. \nWiesław Małucha – wrocławski kompozytor\, zwycięzca tegorocznej edycji Międzynarodowego Konkursu Kompozytorskiego Wiedeńskiej Akademii Muzyki Klasycznej – udzielił artyście wsparcia przygotowując na tę okazję specjalny koncert\, którym chce nawiązać międzypokoleniową łączność z muzyką Fryderyka Chopina.
URL:https://filharmoniasudecka.pl/event/chopin-malucha-koncert-wielkich-wyzwan/
LOCATION:Milicz\, 56-300\, Poland
CATEGORIES:Koncert kameralny
ATTACH;FMTTYPE=image/jpeg:https://filharmoniasudecka.pl/wp-content/uploads/2023/01/Plakat_14.01.23.jpg
END:VEVENT
BEGIN:VEVENT
DTSTART;TZID=Europe/Warsaw:20230113T190000
DTEND;TZID=Europe/Warsaw:20230113T190000
DTSTAMP:20260421T185544
CREATED:20230101T134525Z
LAST-MODIFIED:20230102T171337Z
UID:10000004-1673636400-1673636400@filharmoniasudecka.pl
SUMMARY:Kuba - wyspa\, jak wulkan gorąca
DESCRIPTION:Każdy koncert zespołu Jose Torres & Havana Dreams to podróż w krainę latynoskich rytmów\, pełnych słońca kolorów i dźwięków Kuby oraz Ameryki Łacińskiej. Program artystyczny jest wędrówką po krainie radości\, pokładach energii i ścieżkach nostalgii oddających klimat ulic Havany. Pomiędzy utworami Jose Torres wprowadza publiczność w tematykę utworów\, opowiada anegdoty\, wciąga widzów w show. Wspiera go w tym zespół Havana Dreams z wokalistami – znany kubańczyk Juan Carlos Hechavarria León oraz wspaniała Yaremi de las Mercedes Kordos. \nProgram: \nJose Torres & Havana Dreams  Aquellos ojos verdes\, Besame mucho\, Chan chan\, Dos Gardenias\, Drume Negrita\, El manisero\, Guantanamera\, Como fue\, Me voy pal pueblo\, Obsession\, Perdón\, Quiereme Mucho\, Son para Ti\, Madrigal \nWykonawcy: \nMiłosz Kula – dyrygent\nJose Torres i Havana Dreams\nOrkiestra Symfoniczna Filharmonii Sudeckiej \nKoncert specjalny
URL:https://filharmoniasudecka.pl/event/kuba-wyspa-jak-wulkan-goraca/
LOCATION:Milicz\, 56-300\, Poland
CATEGORIES:Koncert specjalny
END:VEVENT
BEGIN:VEVENT
DTSTART;TZID=Europe/Warsaw:20221231T200000
DTEND;TZID=Europe/Warsaw:20221231T210000
DTSTAMP:20260421T185544
CREATED:20221229T234712Z
LAST-MODIFIED:20250620T101124Z
UID:10000001-1672516800-1672520400@filharmoniasudecka.pl
SUMMARY:Jak Sylwester to tylko w Filharmonii
DESCRIPTION:Z końcem roku narasta w nas chęć do szampańskiej zabawy. Tylko taką znajdziecie Państwo w programie Koncertu Sylwestrowego z udziałem wspaniałych solistów i nie mniej wspaniałej orkiestry.\nW ten wieczór wybierzemy się na wesele Figara\, z wesołą wdówką zaśpiewamy Usta milczą\, dusza śpiewa\, stawimy czoła groźnemu bykowi na corridzie i wzniesiemy szampanem toast z Traviatą. \nWykonawcy: \nPaweł Kotla – dyrygent\nNatalia Rubiś – sopran\nKrystian Krzeszowiak – tenor\nGrażyna Wolszczak – prowadzenie koncertu\nOrkiestra Symfoniczna Filharmonii Sudeckiej \nProgram: \nW. A. Mozart Uwertura do opery Wesele Figara\nW. A. Mozart Dies Bildnis z opery Die Zauberflöte\nA. Dvořák Měsíčku na nebi hlubokém z opery Rusałka\nJ. Strauss jr. Polka Pizzicato\nF. Lehar Usta milczą\, dusza śpiewa z operetki Wesoła wdówka\nJ. Offenbach Barkarola z opery Opowieści Hoffmanna\nG. Rossini Quell’alme pupille z opery La pietra del paragone\nCh. Gounod Je veux vivre z opery Romeo et Juliette\nG. Bizet Uwertura do opery Carmen\nE. de Curtis Torna a Surriento 1937\nG. Puccini O mio babbino caro z opery Gianni Schicchi\nP. Mascagni Intermezzo z opery Rycerskość wieśniacza\nL. Arditi Il bacio\nV. di Chiara La spagnola\nG. Verdi Libiamo z opery Traviata \nDo siego Roku! \nCzas trwania koncertu około 58 minut
URL:https://filharmoniasudecka.pl/event/jak-sylwester-to-tylko-w-filharmonii/
LOCATION:Milicz\, 56-300\, Poland
END:VEVENT
END:VCALENDAR