BEGIN:VCALENDAR
VERSION:2.0
PRODID:-//Filharmonia Sudecka - ECPv6.15.16//NONSGML v1.0//EN
CALSCALE:GREGORIAN
METHOD:PUBLISH
X-WR-CALNAME:Filharmonia Sudecka
X-ORIGINAL-URL:https://filharmoniasudecka.pl
X-WR-CALDESC:Wydarzenia dla Filharmonia Sudecka
REFRESH-INTERVAL;VALUE=DURATION:PT1H
X-Robots-Tag:noindex
X-PUBLISHED-TTL:PT1H
BEGIN:VTIMEZONE
TZID:Europe/Warsaw
BEGIN:DAYLIGHT
TZOFFSETFROM:+0100
TZOFFSETTO:+0200
TZNAME:CEST
DTSTART:20250330T010000
END:DAYLIGHT
BEGIN:STANDARD
TZOFFSETFROM:+0200
TZOFFSETTO:+0100
TZNAME:CET
DTSTART:20251026T010000
END:STANDARD
BEGIN:DAYLIGHT
TZOFFSETFROM:+0100
TZOFFSETTO:+0200
TZNAME:CEST
DTSTART:20260329T010000
END:DAYLIGHT
BEGIN:STANDARD
TZOFFSETFROM:+0200
TZOFFSETTO:+0100
TZNAME:CET
DTSTART:20261025T010000
END:STANDARD
BEGIN:DAYLIGHT
TZOFFSETFROM:+0100
TZOFFSETTO:+0200
TZNAME:CEST
DTSTART:20270328T010000
END:DAYLIGHT
BEGIN:STANDARD
TZOFFSETFROM:+0200
TZOFFSETTO:+0100
TZNAME:CET
DTSTART:20271031T010000
END:STANDARD
END:VTIMEZONE
BEGIN:VEVENT
DTSTART;TZID=Europe/Warsaw:20260426T180000
DTEND;TZID=Europe/Warsaw:20260426T180000
DTSTAMP:20260420T161943
CREATED:20250618T080010Z
LAST-MODIFIED:20260413T222615Z
UID:10000425-1777226400-1777226400@filharmoniasudecka.pl
SUMMARY:Trąbka w wielkim mieście - koncert z cyklu Filharmonia w Królewskiej
DESCRIPTION:26.04.2026\, niedziela\, godz. 18:00\nLegnica\, Sala Królewska Legnickiego Centrum Kultury\, ul. Chojnowska 2\nTrąbka w wielkim mieście — koncert z cyklu Filharmonia w Królewskiej \nWykonawcy\nMaciej Tomasiewicz — dyrygent\nPatrycjusz Gruszecki — trąbka\nOrkiestra Symfoniczna Filharmonii Sudeckiej \nProgram\nLeonard Bernstein — On the town – three dance episodes\nPaul Vidal — Concertino\nJoseph Jongen — Concertino\nWładysław Szpilman — Ballet Scene \nCzas trwania: 70 minut (bez przerwy)\nCeny biletów: 40 / 20 / 5 zł* \n*bilety w cenie 5 zł przysługują uczniom Szkoły Muzycznej — przy wejściu na koncert konieczne będzie okazanie legitymacji lub zaświadczenia ze Szkoły Muzycznej \n  \n \n  \n  \n  \nO koncercie\nZapraszamy w podróż po XX-wiecznej mapie muzycznej. Naszą trasę rozpoczynamy w Nowym Jorku – na słynnym Broadwayu\, gdzie w 1944 roku odbyła się premiera musicalu On the Town autorstwa Leonard Bernsteina. Historia trzech marynarzy spędzających jeden dzień w Nowym Jorku była inspirowana rzeczywistością miasta\, które w czasie II wojny światowej było jednym z głównych portów amerykańskiej floty. Niedługo po premierze Bernstein opracował fragmenty taneczne musicalu w formie suity koncertowej – Three Dance Episodes. W ten sposób muzyka teatralna trafiła na scenę symfoniczną\, co było zjawiskiem charakterystycznym dla amerykańskiej kultury muzycznej połowy XX wieku. \nZ Nowego Jorku przenosimy się do jednej z najważniejszych europejskich instytucji muzycznych – Conservatoire de Paris. Jednym z profesorów tej uczelni był Paul Vidal – autor kolejnej kompozycji w naszym programie. W XIX i XX wieku paryskie konserwatorium rozwijało tradycję komponowania utworów przeznaczonych na konkursy i egzaminy instrumentalne. Krótkie formy koncertowe\, takie jak Concertina\, powstawały z myślą o studentach i szybko zaczęły funkcjonować również na estradach koncertowych. \nPodobną funkcję pełniło Concertino belgijskiego kompozytora Joseph Jongena. Twórca był związany z Conservatoire Royal de Bruxelles\, jednak jego działalność przypadała na czas\, gdy belgijskie życie muzyczne pozostawało pod silnym wpływem kultury francuskiej. W tym środowisku powstawało wiele utworów przeznaczonych dla młodych instrumentalistów\, które łączyły funkcję pedagogiczną z koncertową. \n„Twórczość symfoniczna Władysława Szpilmana mieści się — w sensie stylistycznym — pomiędzy dużymi formami George Gershwina a dziełami Rachmaninowa\, jeśli w przestrzeń tę można jeszcze coś zmieścić\, nie dotykając ani jednego\, ani drugiego. Pochodząca z końca lat 60. Scena baletowa jest znakomitym przeniesieniem na swojski grunt zdobyczy muzyki hollywoodzkiej; urzeka piękną melodią i rozkoszną harmonizacją\, błyskotliwą — choć konwencjonalną — dyspozycją instrumentalną” – czytamy w jednej z recenzji. Rzeczywiście\, bohater filmu \,\,Pianista” w interesujący sposób nawiązał tu do tradycji muzyki filmowej i wykorzystał jej środki w utworze koncertowym. \n  \nJakub Karmelita \n  \nCykl koncertów Filharmonia w Królewskiej dofinansowano ze środków budżetu Samorządu Województwa Dolnośląskiego oraz objęto patronatem honorowym Marszałka Województwa Dolnośląskiego Pawła Gancarza.
URL:https://filharmoniasudecka.pl/event/trabka-w-wielkim-miescie-filharmonia-w-krolewskiej/
LOCATION:Sala Królewska Legnickiego Centrum Kultury\, Chojnowska 2\, Legnica\, dolnośląskie\, 59-220\, Poland
CATEGORIES:Filharmonia w Królewskiej
ATTACH;FMTTYPE=image/png:https://filharmoniasudecka.pl/wp-content/uploads/2025/06/2026-04-26-FwK-Perlowski-2-1.png
END:VEVENT
BEGIN:VEVENT
DTSTART;TZID=Europe/Warsaw:20260517T180000
DTEND;TZID=Europe/Warsaw:20260517T180000
DTSTAMP:20260420T161943
CREATED:20250618T080058Z
LAST-MODIFIED:20260414T121654Z
UID:10000431-1779040800-1779040800@filharmoniasudecka.pl
SUMMARY:Czerpiąc inspirację z folkloru - koncert z cyklu Filharmonia w Królewskiej
DESCRIPTION:17.05.2026\, niedziela\, godz. 18:00\nLegnica\, Sala Królewska Legnickiego Centrum Kultury\, ul. Chojnowska 2\nCzerpiąc inspirację z folkloru — koncert z cyklu Filharmonia w Królewskiej \nWykonawcy\nRuben Silva — dyrygent\nTomasz Marut — fortepian\nOrkiestra Symfoniczna Filharmonii Dolnośląskiej \nProgram\nFryderyk Chopin — I Koncert fortepianowy e-moll op. 11\nAntonín Dvořák — VIII Symfonia G-dur op. 88 \nCzas trwania: TBA\nCeny biletów: 40 / 20 / 5 zł* \n*bilety w cenie 5 zł przysługują uczniom Szkoły Muzycznej — przy wejściu na koncert konieczne będzie okazanie legitymacji lub zaświadczenia ze Szkoły Muzycznej \n \n  \n  \n  \nO koncercie\nI Koncert fortepianowy e-moll op. 11 skomponowany został przez Fryderyka Chopina w 1830 roku. Został zadedykowany pianiście i kompozytorowi Friedrichowi Kalkbrennerowi. Pierwsze wykonanie koncertu miało miejsce 11 października 1830 r. w Warszawie\, solistą był sam Chopin. Paryska premiera odbyła się w 1832 r.\, gdzie utwór został owacyjnie przyjęty przez zachwyconą publiczność. \nZgodnie z praktyką stosowaną w koncertach komponowanych w stylu brillant\, pod koniec I części koncertu nie pojawia się kadencja\, bowiem wirtuozowski charakter całego utworu sprawia\, że solowy popis staje się zbędny. Istotna rola przypada drugiej części koncertu\, o charakterze nokturnowym. O II części „Koncertu e-moll” (Romanca) Chopin pisał:\n„Adagio od nowego koncertu jest E-dur. Nie ma to być mocne\, jest ono więcej romansowe\, spokojne\, melancholiczne\, powinno czynić wrażenie miłego spojrzenia w miejsce\, gdzie stawa tysiąc lubych przypomnień na myśli. Jest to jakieś dumanie w piękny czas wiosenny\, ale przy księżycu.” \nI Koncert fortepianowy nawiązuje do tradycji muzycznych XIX-wiecznej Europy\, czerpiąc wpływy zarówno z epoki klasycznej\, jak i romantycznej. Został skomponowany kiedy Chopin miał zaledwie dwadzieścia lat\, co odzwierciedlało jego młodość. Ukończone w Warszawie wydanie tego utworu zaznaczyło rosnącą pozycję Chopina jako kompozytora wyjątkowego. Jego romantyczna wrażliwość połączona z tradycyjną formą koncertu wniosła świeże spojrzenie do klasycznego kanonu i nadała temu utworowi miano klasyki. \nNajwiększe znaczenie w twórczości Antonina Dvořaka mają jego utwory orkiestrowe\, a zwłaszcza symfonie. Charakterystyczne jest to\, że z dziewięciu symfonii\, jakie napisał najbardziej znane są nie te\, które oparł na folklorze czeskim poprzez wplatanie weń melodii ludowych i rytmów czeskich tańców\, i dzięki którym stawiany jest obok B. Smetany\, jako kompozytor narodowy. \nWszystkie symfonie charakteryzują się niezwykłym bogactwem melodycznym\, widocznym także w VIII Symfonii G-dur op. 88. Jest to przykład doskonałej syntezy klasycznego układu części (z niewielkimi odstępstwami i swobodą w operowaniu formą) z romantyczną treścią. \nCzęść pierwsza rozpoczyna się nieco elegijnym\, marszowym tematem\, który pod koniec rozwinie się w wirtuozowski popis całej orkiestry. Uspokojenie przynosi druga część\, nastrojem przypominająca wolne ogniwo symfonii „Z Nowego Świata”. W trzecich częściach swych symfonii kompozytor zwykle wykorzystywał rytmy jakichś tańców – polki\, furianta\, lendlera\, a tym razem oparł ten ustęp na motywach walca. \nJednak najbardziej zaskakujący w VIII Symfonii jest jej finał. Jest to jedyne w swym rodzaju połączenie kilku form w jedną całość. Odnaleźć tu bowiem można allegro sonatowe skrzyżowane z popularną formą ronda\, a wszystko to ujęte zgrabnie w cykl wariacji. \nVIII Symfonia Dvořaka powstała w zaledwie dwa miesiące i miała swoją premierę w lutym 1890 roku. Szybko zyskała przychylność czeskiej publiczności i w ciągu roku trafiła do Wiednia\, gdzie również doceniono kunszt artysty. \n  \nCykl koncertów Filharmonia w Królewskiej dofinansowano ze środków budżetu Samorządu Województwa Dolnośląskiego oraz objęto patronatem honorowym Marszałka Województwa Dolnośląskiego Pawła Gancarza.
URL:https://filharmoniasudecka.pl/event/czerpiac-inspiracje-z-folkloru-filharmonia-w-krolewskiej/
LOCATION:Sala Królewska Legnickiego Centrum Kultury\, Chojnowska 2\, Legnica\, dolnośląskie\, 59-220\, Poland
CATEGORIES:Filharmonia w Królewskiej
ATTACH;FMTTYPE=image/png:https://filharmoniasudecka.pl/wp-content/uploads/2025/06/2026-05-17-FwK-Silva-1.png
END:VEVENT
BEGIN:VEVENT
DTSTART;TZID=Europe/Warsaw:20260607T180000
DTEND;TZID=Europe/Warsaw:20260607T180000
DTSTAMP:20260420T161943
CREATED:20250618T080050Z
LAST-MODIFIED:20260113T142426Z
UID:10000437-1780855200-1780855200@filharmoniasudecka.pl
SUMMARY:Stoliczku nakryj się! - koncert z cyklu Filharmonia w Królewskiej
DESCRIPTION:07.06.2026\, niedziela\, godz. 18:00\nLegnica\, Sala Królewska Legnickiego Centrum Kultury\, ul. Chojnowska 2\nStoliczku nakryj się! — koncert z cyklu Filharmonia w Królewskiej \nWykonawcy\nTadeusz Wicherek — dyrygent\nGabriela Oberbek i Janusz Zadura — lektorzy\nOrkiestra Symfoniczna Filharmonii Sudeckiej \nProgram\nPoematy symfoniczne:\nMariusz Matuszewski — Stoliczku\, nakryj się\nMariusz Matuszewski — Jaś i Małgosia\nTekst: Grzegorz Tomczak\nLektorzy: Gabriela Oberbek\, Janusz Zadura\nIlustracje: Krzysztof Kałucki\, Jakub Grabowski\nAnimacje: Anna Falacińska\, Mateusz Kluczny \nCzas trwania: 60 minut (bez przerwy)\nCeny biletów: 40 / 20 / 5 zł* \n*bilety w cenie 5 zł przysługują uczniom Szkoły Muzycznej — przy wejściu na koncert konieczne będzie okazanie legitymacji lub zaświadczenia ze Szkoły Muzycznej \n \n  \n  \n  \nCykl koncertów Filharmonia w Królewskiej dofinansowano ze środków budżetu Samorządu Województwa Dolnośląskiego oraz objęto patronatem honorowym Marszałka Województwa Dolnośląskiego Pawła Gancarza.
URL:https://filharmoniasudecka.pl/event/stoliczku-nakryj-sie-filharmonia-w-krolewskiej/
LOCATION:Sala Królewska Legnickiego Centrum Kultury\, Chojnowska 2\, Legnica\, dolnośląskie\, 59-220\, Poland
CATEGORIES:Filharmonia w Królewskiej
ATTACH;FMTTYPE=image/png:https://filharmoniasudecka.pl/wp-content/uploads/2025/06/Slepak.png
END:VEVENT
END:VCALENDAR