BEGIN:VCALENDAR
VERSION:2.0
PRODID:-//Filharmonia Sudecka - ECPv6.15.16//NONSGML v1.0//EN
CALSCALE:GREGORIAN
METHOD:PUBLISH
X-ORIGINAL-URL:https://filharmoniasudecka.pl
X-WR-CALDESC:Wydarzenia dla Filharmonia Sudecka
REFRESH-INTERVAL;VALUE=DURATION:PT1H
X-Robots-Tag:noindex
X-PUBLISHED-TTL:PT1H
BEGIN:VTIMEZONE
TZID:Europe/Warsaw
BEGIN:DAYLIGHT
TZOFFSETFROM:+0100
TZOFFSETTO:+0200
TZNAME:CEST
DTSTART:20230326T010000
END:DAYLIGHT
BEGIN:STANDARD
TZOFFSETFROM:+0200
TZOFFSETTO:+0100
TZNAME:CET
DTSTART:20231029T010000
END:STANDARD
BEGIN:DAYLIGHT
TZOFFSETFROM:+0100
TZOFFSETTO:+0200
TZNAME:CEST
DTSTART:20240331T010000
END:DAYLIGHT
BEGIN:STANDARD
TZOFFSETFROM:+0200
TZOFFSETTO:+0100
TZNAME:CET
DTSTART:20241027T010000
END:STANDARD
BEGIN:DAYLIGHT
TZOFFSETFROM:+0100
TZOFFSETTO:+0200
TZNAME:CEST
DTSTART:20250330T010000
END:DAYLIGHT
BEGIN:STANDARD
TZOFFSETFROM:+0200
TZOFFSETTO:+0100
TZNAME:CET
DTSTART:20251026T010000
END:STANDARD
BEGIN:DAYLIGHT
TZOFFSETFROM:+0100
TZOFFSETTO:+0200
TZNAME:CEST
DTSTART:20260329T010000
END:DAYLIGHT
BEGIN:STANDARD
TZOFFSETFROM:+0200
TZOFFSETTO:+0100
TZNAME:CET
DTSTART:20261025T010000
END:STANDARD
END:VTIMEZONE
BEGIN:VEVENT
DTSTART;TZID=Europe/Warsaw:20250504T180000
DTEND;TZID=Europe/Warsaw:20250504T180000
DTSTAMP:20260420T124831
CREATED:20250116T104018Z
LAST-MODIFIED:20250429T091555Z
UID:10000329-1746381600-1746381600@filharmoniasudecka.pl
SUMMARY:Młodzi wirtuozi - koncert z cyklu Filharmonia w Królewskiej
DESCRIPTION:04.05.2025\, niedziela\, godz. 18:00\nLegnica\, Sala Królewska Legnickiego Centrum Kultury\, ul. Chojnowska 2\nMłodzi wirtuozi — koncert z cyklu Filharmonia w Królewskiej \nWykonawcy:\nMiłosz Kula — dyrygent\nJulia Wroniszewska — wiolonczela\nNatalia Dragan — skrzypce\nOrkiestra Symfoniczna Filharmonii Dolnośląskiej \nProgram:\nGabriel Fauré — Pavana op. 50\nCamille Saint-Saëns —  I Koncert wiolonczelowy a-moll op. 33\nHenryk Wieniawski — Fantaisie brillante sur Faust op.20\nStanisław Moniuszko — \,\,Bajka” Uwertura fantastyczna \nCzas trwania: 70 minut\nCeny biletów: 40 / 20 / 1 zł* \n*bilety w cenie 1 zł przysługują uczniom Szkoły Muzycznej — przy wejściu na koncert konieczne będzie okazanie legitymacji lub zaświadczenia ze Szkoły Muzycznej \nCykl koncertów Filharmonia w Królewskiej dofinansowano ze środków budżetu Samorządu Województwa Dolnośląskiego oraz objęto patronatem honorowym Marszałka Województwa Dolnośląskiego Pawła Gancarza. \n \n 
URL:https://filharmoniasudecka.pl/event/mlodzi-wirtuozi-koncert-z-cyklu-filharmonia-w-krolewskiej/
LOCATION:Sala Królewska Legnickiego Centrum Kultury\, Chojnowska 2\, Legnica\, dolnośląskie\, 59-220\, Poland
CATEGORIES:Filharmonia w Królewskiej
ATTACH;FMTTYPE=image/png:https://filharmoniasudecka.pl/wp-content/uploads/2025/01/FS-w-Krolewskiej-2025-1.png
END:VEVENT
BEGIN:VEVENT
DTSTART;TZID=Europe/Warsaw:20250406T180000
DTEND;TZID=Europe/Warsaw:20250406T180000
DTSTAMP:20260420T124831
CREATED:20250116T102728Z
LAST-MODIFIED:20250206T105634Z
UID:10000328-1743962400-1743962400@filharmoniasudecka.pl
SUMMARY:Ein Deutsches Requiem - koncert z cyklu Filharmonia w Królewskiej
DESCRIPTION:06.04.2025\, niedziela\, godz. 18:00\nLegnica\, Sala Królewska Legnickiego Centrum Kultury\, ul. Chojnowska 2\nEin Deutsches Requiem — koncert z cyklu Filharmonia w Królewskiej \nWykonawcy:\nAgnieszka Franków-Żelazny — dyrygent\nMagdalena Stefaniak – sopran\nAdrian Janus – baryton\nWrocławski Chór Żeński\nMęski Zespół Wokalny I Signori\nIzabela Polakowska-Rybska – przygotowanie chórów\nOrkiestra Symfoniczna Filharmonii Sudeckiej \nProgram:\nJohannes Brahms „Ein Deutsches Requiem” op. 45 oratorium na orkiestrę\, chór oraz głosy solowe\nSelig sind\, die da Leid tragen\nDenn alles Fleisch es ist wie Gras\nHerr\, lehre doch mich\nWie lieblich sind deine Wohnungen\nIhr habt nun Traurigkeit\nDenn wir haben hie keine bleibende Statt\nSelig sind die Toten \nCzas trwania: 115 minut\nCeny biletów: 40 / 20 / 1 zł* \n*bilety w cenie 1 zł przysługują uczniom Szkoły Muzycznej — przy wejściu na koncert konieczne będzie okazanie legitymacji lub zaświadczenia ze Szkoły Muzycznej \nCykl koncertów Filharmonia w Królewskiej dofinansowano ze środków budżetu Samorządu Województwa Dolnośląskiego oraz objęto patronatem honorowym Marszałka Województwa Dolnośląskiego Pawła Gancarza. \n \n 
URL:https://filharmoniasudecka.pl/event/ein-deutsches-requiem-w-legnicy/
LOCATION:Sala Królewska Legnickiego Centrum Kultury\, Chojnowska 2\, Legnica\, dolnośląskie\, 59-220\, Poland
CATEGORIES:Filharmonia w Królewskiej
ATTACH;FMTTYPE=image/png:https://filharmoniasudecka.pl/wp-content/uploads/2025/01/FS-w-Krolewskiej-2025-1.png
END:VEVENT
BEGIN:VEVENT
DTSTART;TZID=Europe/Warsaw:20250309T180000
DTEND;TZID=Europe/Warsaw:20250309T180000
DTSTAMP:20260420T124831
CREATED:20250116T095903Z
LAST-MODIFIED:20250226T091819Z
UID:10000327-1741543200-1741543200@filharmoniasudecka.pl
SUMMARY:Dzień Kobiet w rytmach latino i nie tylko - koncert z cyklu Filharmonia w Królewskiej
DESCRIPTION:09.03.2025\, niedziela\, godz. 18:00\nLegnica\, Sala Królewska Legnickiego Centrum Kultury\, ul. Chojnowska 2\nDzień Kobiet w rytmach latino i nie tylko — koncert z cyklu Filharmonia w Królewskiej \nWykonawcy:\nJakub Chrenowicz — dyrygent\nSara Dragan — skrzypce\nMiłosz Rutkowski — marimba\nOrkiestra Symfoniczna Filharmonii Sudeckiej \nKrystyna Swoboda – prowadzenie \nProgram:\nBela Bartók – Tańce rumuńskie na orkiestrę smyczkową Sz. 56 BB 58   (7′)\nJocul cu bâtă\nBrâul\nPe loc\nBuciumeana\nPoarga românească\nMărunțel\nAstor Piazzolla – „Estaciones Porteñas” / „Cztery pory roku w Buenos Aires”    (25′)\nRoberto Oetomo – SOAR: Concerto nr 1    (20′)\nCon energia\nAdagio cantabile e sostenuto (Rainbow’s Lament / Lament tęczy)\nQuasi cadenza – Presto \nCzas trwania: 75 minut\nCeny biletów: 40 / 20 / 1 zł* \n*bilety w cenie 1 zł przysługują uczniom Szkoły Muzycznej — przy wejściu na koncert konieczne będzie okazanie legitymacji lub zaświadczenia ze Szkoły Muzycznej \nCykl koncertów Filharmonia w Królewskiej dofinansowano ze środków budżetu Samorządu Województwa Dolnośląskiego oraz objęto patronatem honorowym Marszałka Województwa Dolnośląskiego Pawła Gancarza. \n \n 
URL:https://filharmoniasudecka.pl/event/dzien-kobiet-w-rytmach-latino-i-nie-tylko-w-legnicy/
LOCATION:Sala Królewska Legnickiego Centrum Kultury\, Chojnowska 2\, Legnica\, dolnośląskie\, 59-220\, Poland
CATEGORIES:Filharmonia w Królewskiej
ATTACH;FMTTYPE=image/png:https://filharmoniasudecka.pl/wp-content/uploads/2025/01/2025-03-09-SD-w-FwK.png
END:VEVENT
BEGIN:VEVENT
DTSTART;TZID=Europe/Warsaw:20250223T180000
DTEND;TZID=Europe/Warsaw:20250223T180000
DTSTAMP:20260420T124831
CREATED:20250116T094525Z
LAST-MODIFIED:20250220T142651Z
UID:10000326-1740333600-1740333600@filharmoniasudecka.pl
SUMMARY:W starym i nowym stylu - koncert z cyklu Filharmonia w Królewskiej
DESCRIPTION:23.02.2025\, niedziela\, godz. 18:00\nLegnica\, Sala Królewska Legnickiego Centrum Kultury\, ul. Chojnowska 2\nW starym i nowym stylu — koncert z cyklu Filharmonia w Królewskiej \nWykonawcy:\nMarek Wroniszewski — dyrygent\nTomasz Strahl — wiolonczela\nMaria Peradzyńska — flet\nPiotr Pączkowski — fortepian\nOrkiestra Kameralna Filharmonii Dolnośląskiej w Jeleniej Górze \nProgram:\nFerenc Liszt — Rapsodia węgierska\nHenryk Mikołaj Górecki — Trzy utwory w dawnym stylu\nWojciech Kostrzewa — Concertino na flet i wiolonczelę\nMikołaj Piotr Górecki — Elegia na wiolonczelę i orkiestrę smyczkową op. 40\nErnest Bloch — Suite Modale na flet i orkiestrę smyczkową\nRomuald Twardowski — Tryptyk mariacki \nCzas trwania: 80 minut\nCeny biletów: 40 / 20 / 1 zł* \n*bilety w cenie 1 zł przysługują uczniom Szkoły Muzycznej — przy wejściu na koncert konieczne będzie okazanie legitymacji lub zaświadczenia ze Szkoły Muzycznej \nCykl koncertów Filharmonia w Królewskiej dofinansowano ze środków budżetu Samorządu Województwa Dolnośląskiego oraz objęto patronatem honorowym Marszałka Województwa Dolnośląskiego Pawła Gancarza.
URL:https://filharmoniasudecka.pl/event/w-starym-i-nowym-stylu-koncert-z-cyklu-filharmonia-w-krolewskiej/
LOCATION:Sala Królewska Legnickiego Centrum Kultury\, Chojnowska 2\, Legnica\, dolnośląskie\, 59-220\, Poland
CATEGORIES:Filharmonia w Królewskiej
ATTACH;FMTTYPE=image/png:https://filharmoniasudecka.pl/wp-content/uploads/2025/01/FS-w-Krolewskiej-2025-1.png
END:VEVENT
BEGIN:VEVENT
DTSTART;TZID=Europe/Warsaw:20250111T180000
DTEND;TZID=Europe/Warsaw:20250111T180000
DTSTAMP:20260420T124831
CREATED:20241209T091947Z
LAST-MODIFIED:20241211T102351Z
UID:10000323-1736618400-1736618400@filharmoniasudecka.pl
SUMMARY:Swingowo i karnawałowo - Koncert z cyklu Filharmonia w Królewskiej
DESCRIPTION:11.01.2025\, sobota\, godz. 18:00\nLegnica\, Sala Królewska Legnickiego Centrum Kultury\, ul. Chojnowska 2\nSwingowo i karnawałowo — Koncert z cyklu Filharmonia w Królewskiej \nWykonawcy:\nYukari Ishimoto — dyrygentka\nJoanna Kurbiel — wokal\nBVG Orchester Berlin \nProgram:\nRichard Strauss — „Zarathustra 2000”\, arr. Michael Jerg\nFredrick Loewe — „My Fair Lady”\, arr. H.J. Rhinow\nStevie Wonder — „Sir Duke”\, arr. Naohiro Iwai\nJoe Galand — „In The Mood”\, arr. Naohiro Iwai\nAnonim — „Swinging Sax – Klarinettenmuckl”\, arr. Karl Pfortner\n„Südamerikana” Medley\, arr. H.J. Rhinow\n„Frank Sinatra Hits Medley”\, arr. Naohiro Iwai\nRichart Rodgers — „Blue Moon”\, arr. Warren Barker\nJimmy McHugh — „On The Sunny Side of The Street”\, arr. Peter Kleine Schaars\nBart Howard — „Fly Me To The Moon”\, arr. Jan Harpin\nGlenn Miller — „Swing mit Glenn Miller”\, arr. H.J. Rhinow \nCzas trwania: 70 minut\nCeny biletów: 40 / 20 zł \nCykl koncertów Filharmonia w Królewskiej dofinansowano ze środków Urzędu Marszałkowskiego Województwa Dolnośląskiego oraz objęto patronatem honorowym Marszałka Województwa Dolnośląskiego Pawła Gancarza.
URL:https://filharmoniasudecka.pl/event/swingowo-i-karnawalowo/
LOCATION:Sala Królewska Legnickiego Centrum Kultury\, Chojnowska 2\, Legnica\, dolnośląskie\, 59-220\, Poland
ATTACH;FMTTYPE=image/png:https://filharmoniasudecka.pl/wp-content/uploads/2024/12/FS-w-Krolewskiej-LEGNICA-11-12.01.2025.png
END:VEVENT
BEGIN:VEVENT
DTSTART;TZID=Europe/Warsaw:20241207T180000
DTEND;TZID=Europe/Warsaw:20241207T180000
DTSTAMP:20260420T124831
CREATED:20240903T123241Z
LAST-MODIFIED:20241122T173100Z
UID:10000298-1733594400-1733594400@filharmoniasudecka.pl
SUMMARY:Perły baroku - solo i kameralnie - koncert z cyklu Filharmonia w Królewskiej
DESCRIPTION:7.12.2024\, sobota\, godz. 18:00\nLegnica\, Sala Królewska Legnickiego Centrum Kultury\, ul. Chojnowska 2\nKoncert kameralny – Perły baroku – solo i kameralnie \nWykonawcy:\nRadosław Pujanek – dyrygent\, skrzypce\nMichał Krajewski – skrzypce\nElena Lascar – skrzypce\nNatalia Dragan – skrzypce\nRadosława Lascar  – wiolonczela\nWojciech Kud – wiolonczela\nAlicja Dragan – prowadzenie\nOrkiestra Filharmonii Sudeckiej \nProgram:\nHenry Purcell – Uwertura do opery „Dydona i Eneasz”\nAntonio Vivaldi – Koncert h-moll na 4 skrzypiec RV 580\nAntonio Vivaldi – Koncert na 2 wiolonczele g-moll RV 531\nHenry Purcell – Abdelazar Suite\, Z. 570\nJohann Sebastian Bach – Koncert na 2 skrzypiec d-moll BWV 1043\nJohann Sebastian Bach – Aria z Suity nr 3 D-dur BWV 1068\nAntonio Vivaldi – Pory roku  Koncert nr 4 f-moll op. 8 RV 297 „Zima” \nCzas trwania: 45 minut\nCeny biletów: 40 / 20 zł \nSprzedaż online zakończona! Bilety można kupić w Galerii Satyrykon w Legnicy\, kontakt:\ne-mail: galeriasatyrykon@lck.art.pl\nnr tel.: 501 504 115 \n  \nCykl koncertów Filharmonia w Królewskiej dofinansowano ze środków Urzędu Marszałkowskiego Województwa Dolnośląskiego oraz objęto patronatem honorowym Marszałka Województwa Dolnośląskiego Pawła Gancarza.
URL:https://filharmoniasudecka.pl/event/perly-baroku-solo-i-kameralnie-koncert-z-cyklu-filharmonia-w-krolewskiej/
LOCATION:Sala Królewska Legnickiego Centrum Kultury\, Chojnowska 2\, Legnica\, dolnośląskie\, 59-220\, Poland
ATTACH;FMTTYPE=image/png:https://filharmoniasudecka.pl/wp-content/uploads/2024/09/FS-w-Krolewskiej-Legnica-1.png
END:VEVENT
BEGIN:VEVENT
DTSTART;TZID=Europe/Warsaw:20241117T180000
DTEND;TZID=Europe/Warsaw:20241117T180000
DTSTAMP:20260420T124831
CREATED:20240903T120803Z
LAST-MODIFIED:20241029T121012Z
UID:10000297-1731866400-1731866400@filharmoniasudecka.pl
SUMMARY:Zacznijmy od początku - koncert kameralny z cyklu Filharmonia w Królewskiej
DESCRIPTION:17.11.2024\, niedziela\, godz. 18:00\nLegnica\, Sala Królewska Legnickiego Centrum Kultury\, ul. Chojnowska 2\nKoncert kameralny – Zacznijmy od początku… \nWykonawcy:\nPaweł Orłowski – wokal\nAnna Jopek – fortepian\, aranżacje\nMichał Kuźnicki – bas\nJarosław Marszałek – perkusja\nMilena Konieczna / Anna Góralska  – chórki\nPatrycjusz Gruszecki — trąbka\nAlicja Dragan – prowadzenie \nProgram:\nJak nikt (sł. i muz. Paweł Orłowski)\nSłońce (sł. i muz. Paweł Orłowski)\nPragnienia (sł. K.K. Baczyński\, muz. Paweł Orłowski)\nNadzieja ma (sł. i muz. Paweł Orłowski)\nFor All We Know \nA Song  For You \nMoja miłość największa\nPowiedz\, że powiedz jak\nHere And Now \nAll Is Fair In Love \nA gdybyśmy nigdy się nie spotkali  \nCzas trwania: 45 minut\nCeny biletów: 40 / 20 zł \n  \nCykl koncertów Filharmonia w Królewskiej dofinansowano ze środków Urzędu Marszałkowskiego Województwa Dolnośląskiego oraz objęto patronatem honorowym Marszałka Województwa Dolnośląskiego Pawła Gancarza.
URL:https://filharmoniasudecka.pl/event/12755/
LOCATION:Sala Królewska Legnickiego Centrum Kultury\, Chojnowska 2\, Legnica\, dolnośląskie\, 59-220\, Poland
ATTACH;FMTTYPE=image/png:https://filharmoniasudecka.pl/wp-content/uploads/2024/09/FS-w-Krolewskiej-Legnica-1.png
END:VEVENT
BEGIN:VEVENT
DTSTART;TZID=Europe/Warsaw:20241020T180000
DTEND;TZID=Europe/Warsaw:20241020T190000
DTSTAMP:20260420T124831
CREATED:20240903T115420Z
LAST-MODIFIED:20240923T111258Z
UID:10000296-1729447200-1729450800@filharmoniasudecka.pl
SUMMARY:Od Bacha do Beatlesów - koncert kameralny w cyklu Filharmonia w Królewskiej
DESCRIPTION:20.10.2024\, niedziela\, godz. 18:00\nLegnica\, Sala Królewska Legnickiego Centrum Kultury\, ul. Chojnowska 2\nKoncert kameralny – Od Bacha do Beatlesów \nWykonawcy:\nCezary Futyma – obój\nDariusz Futyma – klarnet\nAnna Osowska-Kud – skrzypce\nAndrzej Bednarczyk – altówka\nWojciech Kud – wiolonczela\nAlicja Dragan – prowadzenie \nProgram:\nJohann Pachelbel – Canon\nGeorg Friedrich Händel – Przybycie króla Saby (Solmo)\nJohann Sebastian Bach – Menuet\, Badinerie\nWolfgang Amadeus Mozart – Kwartet obojowy F-dur cz. lll\nLudwig van Beethoven – V Symfonia ala bossa nova\nFryderyk Chopin – Walc a-moll\nGeorges Bizet – Aragonaise (Carmen)\nJohannes Brahms – Taniec węgierski nr 5 lub 1\nWitold Lutosławski – Mała suita\nJohn Lennon –  When I am 64\nThe Beatles – Yesterday \nCzas trwania: 45 minut\nCeny biletów: 40 / 20 zł \n  \nCykl koncertów Filharmonia w Królewskiej dofinansowano ze środków Urzędu Marszałkowskiego Województwa Dolnośląskiego oraz objęto patronatem honorowym Marszałka Województwa Dolnośląskiego Pawła Gancarza.
URL:https://filharmoniasudecka.pl/event/12749/
LOCATION:Sala Królewska Legnickiego Centrum Kultury\, Chojnowska 2\, Legnica\, dolnośląskie\, 59-220\, Poland
ATTACH;FMTTYPE=image/png:https://filharmoniasudecka.pl/wp-content/uploads/2024/09/FS-w-Krolewskiej-Legnica-1.png
END:VEVENT
BEGIN:VEVENT
DTSTART;TZID=Europe/Warsaw:20240906T173000
DTEND;TZID=Europe/Warsaw:20240906T183000
DTSTAMP:20260420T124831
CREATED:20240903T111257Z
LAST-MODIFIED:20240905T075506Z
UID:10000295-1725643800-1725647400@filharmoniasudecka.pl
SUMMARY:Skrzypce w roli głównej - Inauguracja cyklu Filharmonia w Królewskiej
DESCRIPTION:6.09.2024\, piątek\, godz. 17:30\nLegnica\, Sala Królewska Legnickiego Centrum Kultury\, ul. Chojnowska 2\nSkrzypce w roli głównej  \nWykonawcy:\nJerzy Kosek – dyrygent \nNatalia Dragan – skrzypce\nOrkiestra Symfoniczna Filharmonii Sudeckiej \nProgram:\nWolfgang Amadeusz Mozart – Uwertura do opery Wesele Figara\nHenryk Wieniawski – I Koncert skrzypcowy fis-moll op. 14\nAllegro moderato\nPreghiera. Larghetto\nRondo. Allegro giocoso\nWojciech Kilar – Orawa \nCzas trwania: 45 minut\nCeny biletów: 40 / 20 zł \nBilety są dostępne w Galerii Satyrykon (ul. Rynek 36 w Legnicy) \n  \nCykl koncertów Filharmonia w Królewskiej dofinansowano ze środków Urzędu Marszałkowskiego Województwa Dolnośląskiego oraz objęto patronatem honorowym Marszałka Województwa Dolnośląskiego Pawła Gancarza.
URL:https://filharmoniasudecka.pl/event/skrzypce-w-roli-glownej-inauguracja-cyklu-filharmonia-w-krolewskiej/
LOCATION:Sala Królewska Legnickiego Centrum Kultury\, Chojnowska 2\, Legnica\, dolnośląskie\, 59-220\, Poland
ATTACH;FMTTYPE=image/png:https://filharmoniasudecka.pl/wp-content/uploads/2024/09/FS-w-Krolewskiej-LEGNICA-6.09.2024.png
END:VEVENT
END:VCALENDAR