BEGIN:VCALENDAR
VERSION:2.0
PRODID:-//Filharmonia Sudecka - ECPv6.15.16//NONSGML v1.0//EN
CALSCALE:GREGORIAN
METHOD:PUBLISH
X-WR-CALNAME:Filharmonia Sudecka
X-ORIGINAL-URL:https://filharmoniasudecka.pl
X-WR-CALDESC:Wydarzenia dla Filharmonia Sudecka
REFRESH-INTERVAL;VALUE=DURATION:PT1H
X-Robots-Tag:noindex
X-PUBLISHED-TTL:PT1H
BEGIN:VTIMEZONE
TZID:Europe/Warsaw
BEGIN:DAYLIGHT
TZOFFSETFROM:+0100
TZOFFSETTO:+0200
TZNAME:CEST
DTSTART:20230326T010000
END:DAYLIGHT
BEGIN:STANDARD
TZOFFSETFROM:+0200
TZOFFSETTO:+0100
TZNAME:CET
DTSTART:20231029T010000
END:STANDARD
BEGIN:DAYLIGHT
TZOFFSETFROM:+0100
TZOFFSETTO:+0200
TZNAME:CEST
DTSTART:20240331T010000
END:DAYLIGHT
BEGIN:STANDARD
TZOFFSETFROM:+0200
TZOFFSETTO:+0100
TZNAME:CET
DTSTART:20241027T010000
END:STANDARD
BEGIN:DAYLIGHT
TZOFFSETFROM:+0100
TZOFFSETTO:+0200
TZNAME:CEST
DTSTART:20250330T010000
END:DAYLIGHT
BEGIN:STANDARD
TZOFFSETFROM:+0200
TZOFFSETTO:+0100
TZNAME:CET
DTSTART:20251026T010000
END:STANDARD
BEGIN:DAYLIGHT
TZOFFSETFROM:+0100
TZOFFSETTO:+0200
TZNAME:CEST
DTSTART:20260329T010000
END:DAYLIGHT
BEGIN:STANDARD
TZOFFSETFROM:+0200
TZOFFSETTO:+0100
TZNAME:CET
DTSTART:20261025T010000
END:STANDARD
END:VTIMEZONE
BEGIN:VEVENT
DTSTART;TZID=Europe/Warsaw:20250628T180000
DTEND;TZID=Europe/Warsaw:20250628T180000
DTSTAMP:20260420T171220
CREATED:20250404T080050Z
LAST-MODIFIED:20250521T113642Z
UID:10000310-1751133600-1751133600@filharmoniasudecka.pl
SUMMARY:22. Festiwal Księżnej Daisy: Mistrzowie kameralistyki: Muzyka z przełomu wieków (Wałbrzych\, Zamek Książ - Sala Maksymiliana)
DESCRIPTION:28.06.2025\, sobota\, godz. 18:00\nWałbrzych\, Zamek Książ — Sala Maksymiliana\nMistrzowie kameralistyki: Muzyka z przełomu wieków \nWykonawcy:\nJakub Jakowicz – skrzypce\nKatarzyna Budnik – altówka\nMarcin Zdunik – wiolonczela\nGrzegorz Mania – fortepian \nProgram:\nWładysław Żeleński – Kwartet fortepianowy c-moll op. 61 (36’)\nAllegro con brio\nRomanza. Andante sostenuto\nIntermezzo. Allegretto\nFinale. Allegro appassionato\nXaver Scharwenka – Kwartet fortepianowy F-dur op. 37 (40′)\nAllegro moderato\nAdagio\nAllegro vivace\nAllegro con fuoco \nCzas trwania: 100 minut\nCeny biletów: 50 / 30 zł \n\n\n        \n\n                            \n                                \n                                                            \n                                                \n                                                            \n                                        \n                            \n                                \n                                        Koncert jest częścią karnetu KULTURA PO GODZINACH - kup karnet i zaoszczędź na biletach na 22. Festiwal Księżnej Daisy                    \n                                                \n                                                            \n                                        \n                    \n\n\n  \nO koncercie\nKameralny\, czyli jaki? Słownik Języka Polskiego podpowiada nam\, że jest to przestrzeń \,\,niewielkich rozmiarów dająca wrażenie spokoju i przytulności” albo wydarzenie \,\,odbywające się w niewielkim pomieszczeniu lub z udziałem niewielu osób”. \nZarówno jedna\, jak i druga definicja trafia idealnie w naszą wizję koncertów kameralnych\, na które serdecznie Państwa zapraszamy. Podczas tych wieczorów\, w przytulnej atmosferze i zmniejszonym audytorium\, nie zobaczymy potężnej orkiestry\, solistów oraz dyrygenta\, który kolejnymi ruchami batuty chce ukazać swoją wizję dzieł symfonicznych. Ujrzymy za to mistrzów kameralistyki\, którzy w niewielkich składach\, ramię w ramię jak jeden organizm\, zabiorą nas w podróż przez kolejne dzieła rodzimych kompozytorów. \n\,\,Scena Muzyki Polskiej” to bowiem szansa na pogłębienie wiedzy o ojczystej muzyce\, która mimo ogólnego rozwoju techniki\, mediów\, zaawansowanych systemów badawczych\, wciąż wydaje się być starą książką na regale\, którą znamy jedynie z okładki albo w ogóle o niej zapomnieliśmy. Wystarczy wyciągnąć po nią rękę… \nZapraszamy na koncerty \,\,Scena Muzyki Polskiej” organizowane w Filharmonii Sudeckiej! \n  \nKoncert współorganizowany przez Narodowy Instytut Muzyki i Tańca w ramach programu Scena Muzyki Polskiej\, finansowany ze środków Ministra Kultury i Dziedzictwa Narodowego. \nDofinansowano ze środków Ministra Kultury i Dziedzictwa Narodowego pochodzących z Funduszu Promocji Kultury w ramach programu Muzyka\, realizowanego przez Narodowy Instytut Muzyki i Tańca. \n\nDofinansowano ze środków Samorządu Województwa Dolnośląskiego oraz budżetu Gminy Wałbrzych.
URL:https://filharmoniasudecka.pl/event/mistrzowie-kameralistyki-muzyka-z-przelomu-wiekow/
LOCATION:Zamek Książ\, Piastów Śląskich 1\, Wałbrzych\, 58-306
CATEGORIES:Festiwal Księżnej Daisy,Koncert kameralny
ATTACH;FMTTYPE=image/png:https://filharmoniasudecka.pl/wp-content/uploads/2024/06/2025-06-28.png
END:VEVENT
BEGIN:VEVENT
DTSTART;TZID=Europe/Warsaw:20240629T200000
DTEND;TZID=Europe/Warsaw:20240629T200000
DTSTAMP:20260420T171220
CREATED:20240507T074200Z
LAST-MODIFIED:20240607T091340Z
UID:10000152-1719691200-1719691200@filharmoniasudecka.pl
SUMMARY:21. Festiwal Księżnej Daisy: Złota Warszawa lat 30. - Masecki & Markowicz
DESCRIPTION:29.06.2024\, godz. 20:00\nZamek Książ\, Sala Maksymiliana\, Wałbrzych\nZłota Warszawa lat 30. – Masecki & Markowicz \nProgram:\nCzy pamiętasz tę noc w Zakopanem (muz. Zygmunt Karasiński\, Szymon Kataszek; sł. Aleksander Jellin)\nDlaczego właśnie dziś (muz. Władysław Eiger\, sł. Konrad Tom)\nJuż nie zapomnisz mnie (muz. Henryk Wars\, sł. Ludwik Starski)\nNic o Tobie nie wiem (muz. Henryk Wars\, sł. Emanuel Schlechter)\nNie kochać w taką noc to grzech (muz. Zygmunt Wiehler\, sł. Jerzy Jurandot)\nNie wiem co się ze mną stało (muz. Henryk Wars\, sł. Emanuel Schlechter)\nTrzy listy (muz. Leon Boruński\, sł. Jerzy Jurandot)\nW błękicie oczu twych (muz. Zygmunt Karasiński\, sł. Wacław Stępień)\nWarszawo\, moja Warszawo (muz. Szymon Kataszek\, Zygmunt Karasiński; sł. Andrzej Włast)\nChcesz\, to mnie bierz! (muz. Zygmunt Karasiński\, Szymon Kataszek; sł. Emanuel Schlechter) \nMarcin Masecki i Marcin Markowicz zaprezentują Państwu kameralną wersję projektu Jazz Band Młynarski-Masecki przywracającego do pamięci współczesnych słuchaczy przedwojenny polski jazz. Wbrew obiegowej opinii\, jazz nie trafił do Polski na falach słuchanego po kryjomu Radia Wolna Europa. Pierwsze polskie jazzowe utwory powstawały już pod koniec lat 20. ubiegłego wieku. Wybitni kompozytorzy tacy jak: Henryk Wars\, Szymon Kataszek czy Zygmunt Karasiński – ojciec polskiego jazzu\, zasłuchani w płytach zza oceanu czy z Berlina tworzyli hity na potrzeby filmu\, kabaretów\, teatrów i rewii\, a także na zamówienia coraz liczniejszych wytwórni płytowych takich jak Columbia czy Syrena Record. W ten sposób do 1939 roku powstały tysiące kompozycji i nagrań z udziałem wybitnych instrumentalistów oraz śpiewaków i aktorów. II wojna światowa przekreśliła życiorysy\, przerwała ciągłość i zakończyła okres „prosperity” młodego polskiego show biznesu\, ale nie bezpowrotnie! \nWybitny pianista Marcin Masecki razem z równie uznanym skrzypkiem Marcinem Markowiczem niejako rekompensują stracone szanse całego pokolenia polskich artystów rozrywkowych\, którzy w rozkwicie prosperity musieli uciekać\, walczyć\, ginąć\, emigrować\, osierocając polską muzykę rozrywkową w niepowetowany sposób. Aranżacje Marcina Maseckiego nadają całości zupełnie nowy oddech\, czyniąc tę muzykę aktualną i użytkową\, do tańca i wzruszeń. \nWykonawcy:\nMarcin Masecki — fortepian\, aranżacje\nMarcin Markowicz — skrzypce\, aranżacje \nCzas trwania: ok. 60 min\nCeny biletów: 50 / 30 zł \n 
URL:https://filharmoniasudecka.pl/event/xxi-festiwal-ksieznej-daisy-zlota-warszawa-lat-30-masecki-markowicz-2/
LOCATION:Zamek Książ\, Piastów Śląskich 1\, Wałbrzych\, 58-306
ATTACH;FMTTYPE=image/jpeg:https://filharmoniasudecka.pl/wp-content/uploads/2024/05/1-FESTIWAL-DAISY-kafelek100X200.jpg
END:VEVENT
END:VCALENDAR