BEGIN:VCALENDAR
VERSION:2.0
PRODID:-//Filharmonia Sudecka - ECPv6.15.16//NONSGML v1.0//EN
CALSCALE:GREGORIAN
METHOD:PUBLISH
X-ORIGINAL-URL:https://filharmoniasudecka.pl
X-WR-CALDESC:Wydarzenia dla Filharmonia Sudecka
REFRESH-INTERVAL;VALUE=DURATION:PT1H
X-Robots-Tag:noindex
X-PUBLISHED-TTL:PT1H
BEGIN:VTIMEZONE
TZID:Europe/Warsaw
BEGIN:DAYLIGHT
TZOFFSETFROM:+0100
TZOFFSETTO:+0200
TZNAME:CEST
DTSTART:20240331T010000
END:DAYLIGHT
BEGIN:STANDARD
TZOFFSETFROM:+0200
TZOFFSETTO:+0100
TZNAME:CET
DTSTART:20241027T010000
END:STANDARD
BEGIN:DAYLIGHT
TZOFFSETFROM:+0100
TZOFFSETTO:+0200
TZNAME:CEST
DTSTART:20250330T010000
END:DAYLIGHT
BEGIN:STANDARD
TZOFFSETFROM:+0200
TZOFFSETTO:+0100
TZNAME:CET
DTSTART:20251026T010000
END:STANDARD
BEGIN:DAYLIGHT
TZOFFSETFROM:+0100
TZOFFSETTO:+0200
TZNAME:CEST
DTSTART:20260329T010000
END:DAYLIGHT
BEGIN:STANDARD
TZOFFSETFROM:+0200
TZOFFSETTO:+0100
TZNAME:CET
DTSTART:20261025T010000
END:STANDARD
END:VTIMEZONE
BEGIN:VEVENT
DTSTART;TZID=Europe/Warsaw:20250704T180000
DTEND;TZID=Europe/Warsaw:20250704T180000
DTSTAMP:20260420T154937
CREATED:20250702T192306Z
LAST-MODIFIED:20250703T100839Z
UID:10000442-1751652000-1751652000@filharmoniasudecka.pl
SUMMARY:Swingująca klasyka - koncert plenerowy dla Wałbrzycha
DESCRIPTION:4.07.2026\, piątek\, godz. 18:00\nWałbrzych\, Amfiteatr na Placu Teatralnym\nSwingująca klasyka — koncert plenerowy dla Wałbrzycha \nWykonawcy\nOrkiestra Filharmonii Sudeckiej \nProgram\nPrzeboje muzyki klasycznej w aranżacjach Pawła Stuczyńskiego    \n \nCzas trwania: 60 minut (bez przerwy)\nCeny biletów: wydarzenie organizowane przez Gminę Wałbrzych — wstęp wolny
URL:https://filharmoniasudecka.pl/event/koncert-plenerowy-dla-walbrzycha/
LOCATION:Amfiteatr na Placu Teatralnym\, Plac Teatralny\, Wałbrzych\, Wałbrzych\, 58-300\, Poland
CATEGORIES:Koncert plenerowy
ATTACH;FMTTYPE=image/jpeg:https://filharmoniasudecka.pl/wp-content/uploads/2025/07/514204188_1313024420833382_8163522787428120866_n.jpg
END:VEVENT
END:VCALENDAR