BEGIN:VCALENDAR
VERSION:2.0
PRODID:-//Filharmonia Sudecka - ECPv6.15.16//NONSGML v1.0//EN
CALSCALE:GREGORIAN
METHOD:PUBLISH
X-ORIGINAL-URL:https://filharmoniasudecka.pl
X-WR-CALDESC:Wydarzenia dla Filharmonia Sudecka
REFRESH-INTERVAL;VALUE=DURATION:PT1H
X-Robots-Tag:noindex
X-PUBLISHED-TTL:PT1H
BEGIN:VTIMEZONE
TZID:Europe/Warsaw
BEGIN:DAYLIGHT
TZOFFSETFROM:+0100
TZOFFSETTO:+0200
TZNAME:CEST
DTSTART:20210328T010000
END:DAYLIGHT
BEGIN:STANDARD
TZOFFSETFROM:+0200
TZOFFSETTO:+0100
TZNAME:CET
DTSTART:20211031T010000
END:STANDARD
BEGIN:DAYLIGHT
TZOFFSETFROM:+0100
TZOFFSETTO:+0200
TZNAME:CEST
DTSTART:20220327T010000
END:DAYLIGHT
BEGIN:STANDARD
TZOFFSETFROM:+0200
TZOFFSETTO:+0100
TZNAME:CET
DTSTART:20221030T010000
END:STANDARD
BEGIN:DAYLIGHT
TZOFFSETFROM:+0100
TZOFFSETTO:+0200
TZNAME:CEST
DTSTART:20230326T010000
END:DAYLIGHT
BEGIN:STANDARD
TZOFFSETFROM:+0200
TZOFFSETTO:+0100
TZNAME:CET
DTSTART:20231029T010000
END:STANDARD
BEGIN:DAYLIGHT
TZOFFSETFROM:+0100
TZOFFSETTO:+0200
TZNAME:CEST
DTSTART:20240331T010000
END:DAYLIGHT
BEGIN:STANDARD
TZOFFSETFROM:+0200
TZOFFSETTO:+0100
TZNAME:CET
DTSTART:20241027T010000
END:STANDARD
END:VTIMEZONE
BEGIN:VEVENT
DTSTART;TZID=Europe/Warsaw:20230218T180000
DTEND;TZID=Europe/Warsaw:20230218T180000
DTSTAMP:20260421T164200
CREATED:20230101T165750Z
LAST-MODIFIED:20230122T212559Z
UID:10000013-1676743200-1676743200@filharmoniasudecka.pl
SUMMARY:Kwintet dęty drewniany
DESCRIPTION:Muzyka kameralna jest pokazem prawdziwego kunsztu artystycznego oraz współpracy muzycznej. Wybrane instrumenty dęte tworzą niesamowitą aurę dźwiękową – połączenie brzmienia fletu\, klarnetu\, oboju\, fagotu i waltorni pozwala ukazać całą gamę kolorystyczną\, skalę oraz dynamikę niespotykaną w innych zespołach. \nZapraszamy do wysłuchania wybranych dzieł muzyki polskiej\, węgierskiej i niemieckiej. \nKoncert kameralny\nWykonawcy:\nIldiko Juhasz – flet\nSzymon Fortuna – klarnet\nIlona Hlubek-Długołęcka – obój\nAlicja Korpal-Karasiewicz – fagot\nGrzegorz Mondry – waltornia \nProgram:\nP. Hindemith Quintett\nF. Farkas Alte Ungarische Tänze\nŁ. Woś Kwintet dęty (prawykonanie)\nW. Kilar Kwintet na instrumenty dęte
URL:https://filharmoniasudecka.pl/event/kwintet-dety-drewniany/
LOCATION:Milicz\, 56-300\, Poland
CATEGORIES:Koncert kameralny
ATTACH;FMTTYPE=image/jpeg:https://filharmoniasudecka.pl/wp-content/uploads/2023/01/005-e1674422753554.jpg
END:VEVENT
BEGIN:VEVENT
DTSTART;TZID=Europe/Warsaw:20230217T190000
DTEND;TZID=Europe/Warsaw:20230217T190000
DTSTAMP:20260421T164200
CREATED:20230101T165614Z
LAST-MODIFIED:20230122T211916Z
UID:10000012-1676660400-1676660400@filharmoniasudecka.pl
SUMMARY:Ostatni wirtuoz Romantyzmu
DESCRIPTION:Notatka il faut risquer (trzeba ryzykować)\, umieszczona w głosie solowym Koncertu fis-moll mówi wszystko o karkołomnych trudnościach wykonawczych piętrzących się przed grającym. To dzieło Henryka Wieniawskiego należy do najtrudniejszych koncertów w całej literaturze skrzypcowej. Ten niezwykle efektowny\, popisowy utwór\, oprócz najwyższych umiejętności oraz specyficznych predyspozycji instrumentalnych\, wymaga od wykonawcy wyjątkowego hartu ducha\, a także swojego rodzaju instrumentalnej odwagi. Tego z pewnością nie zabraknie solistce – Sarze Dragan. \nWykonawcy:\nMirosław Jacek Błaszczyk – dyrygent\nSara Dragan – skrzypce\nOrkiestra Symfoniczna Filharmonii Sudeckiej \nProgram:\nG. Rossini Uwertura do opery Semiramida\nH. Wieniawski I koncert skrzypcowy fis-moll op. 14\nF. Mendelssohn-Bartholdy III Symfonia a-moll Szkocka op. 56
URL:https://filharmoniasudecka.pl/event/ostatni-wirtuoz-romantyzmu/
LOCATION:Milicz\, 56-300\, Poland
ATTACH;FMTTYPE=image/jpeg:https://filharmoniasudecka.pl/wp-content/uploads/2023/01/CHRENOWICZ-fot.-Michal-Grocholski-scaled-e1674422348380.jpg
END:VEVENT
BEGIN:VEVENT
DTSTART;TZID=Europe/Warsaw:20230214T190000
DTEND;TZID=Europe/Warsaw:20230214T190000
DTSTAMP:20260421T164200
CREATED:20230101T165054Z
LAST-MODIFIED:20230214T161222Z
UID:10000011-1676401200-1676401200@filharmoniasudecka.pl
SUMMARY:Miłość Ci wszystko wybaczy
DESCRIPTION:Johnny Cash zapytany w jednym z wywiadów o definicję „raju”\, odpowiedział\, że dla niego to każdy poranek spędzony w towarzystwie ukochanej osoby. Miłość przejawia się w prostych czynach i gestach\, powstało na jej temat wiele wierszy\, oparto na niej mnóstwo książek\, piosenek czy filmów. O wielkiej miłości marzy wielu ludzi\, dlatego Walentynki\, czyli święto zakochanych\, jest jednym z najpopularniejszych wydarzeń w roku. \n\n\nKoncert specjalny\nWykonawcy:\nMichelangelo Ensemble:\nAnna Osowska-Kud – skrzypce\nAnna Borska – II skrzypce\nMagdalena Nienartowicz – altówka\nWojciech Kud – wiolonczela\nTomasz Borski – kontrabas\nPaweł Stuczyński – fortepian \nProgram:\nMelodie pełne miłości ze słynnych musicali i filmów: My Fair Lady\, Skrzypek na dachu\, Rosemary Baby\, Statek komediantów\, Siedmiu wspaniałych\, Grek Zorba i innych.\nAranżacje Paweł Stuczyński
URL:https://filharmoniasudecka.pl/event/milosc-ci-wszystko-wybaczy/
LOCATION:Milicz\, 56-300\, Poland
CATEGORIES:Koncert specjalny
ATTACH;FMTTYPE=image/jpeg:https://filharmoniasudecka.pl/wp-content/uploads/2023/01/20220318-A-580-filharmonia-sudecka-scaled-e1674422021144.jpg
END:VEVENT
BEGIN:VEVENT
DTSTART;TZID=Europe/Warsaw:20230211T180000
DTEND;TZID=Europe/Warsaw:20230211T180000
DTSTAMP:20260421T164200
CREATED:20230101T164225Z
LAST-MODIFIED:20230122T205616Z
UID:10000010-1676138400-1676138400@filharmoniasudecka.pl
SUMMARY:Tango – swoisty język ciał
DESCRIPTION:Gdy spojrzenia partnerów się skrzyżują\, partnerka nie może odmówić tańca mężczyźnie. Taniec wytwarza między partnerami więź ciał i dusz\, jest formą dialogu bez słów. Mężczyzna decyduje o każdej fazie tańca\, kobieta musi wsłuchać się w jego oczekiwania i niejako poddać się w tańcu męskiej dominacji. Język tanga jest uniwersalny i dlatego na całym świecie tańczy się ten taniec tak samo. \nWykonawcy:\nAgnieszka Franków-Żelazny – dyrygent\nKlaudiusz Baran –  bandoneon\nMałgorzata Priebe – sopran\nPaweł Mazur – fortepian\nOrkiestra Symfoniczna Filharmonii Sudeckiej\nZespół Wokalny Rondo\, przygotowanie – Małgorzata Podzielny \nProgram:\nA. Piazzola Tanga: Adiós Nonino\, Oblivion\, Fuga y misterioso\, Allegro Tangabile\, Libertango\nM. Palmeri Misatango
URL:https://filharmoniasudecka.pl/event/tango-swoisty-jezyk-cial/
LOCATION:Milicz\, 56-300\, Poland
ATTACH;FMTTYPE=image/jpeg:https://filharmoniasudecka.pl/wp-content/uploads/2023/01/Klaudiusz-Baran-scaled-e1674420968100.jpg
END:VEVENT
BEGIN:VEVENT
DTSTART;TZID=Europe/Warsaw:20230203T190000
DTEND;TZID=Europe/Warsaw:20230203T190000
DTSTAMP:20260421T164200
CREATED:20230101T164040Z
LAST-MODIFIED:20230122T204640Z
UID:10000009-1675450800-1675450800@filharmoniasudecka.pl
SUMMARY:Mozart\, Mozart… i jeszcze raz Mozart !
DESCRIPTION:Trudno szukać w Don Giovannim fragmentów najpiękniejszych – trzeba by właściwie wymieniać po kolei wszystkie sceny opery. Najbardziej godną podziwu cechą tej opery jest idealne oddanie atmosfery dzieła\, w którym łączą się elementy lekkiej\, pogodnej komedii z właściwym nurtem akcji pełnej dramatycznego napięcia\, grozy i tragizmu. Taki efekt mógł osiągnąć tylko Geniusz. \nWykonawcy:\nVladimir Kiradjiev – dyrygent\nSoliści: Studenci Wydziału Wokalnego Uniwersytetu Muzyki i Sztuk Scenicznych w Wiedniu\nOrkiestra Symfoniczna Filharmonii Sudeckiej \nProgram:\nW. A. Mozart Don Giovanni – opera w wersji koncertowej
URL:https://filharmoniasudecka.pl/event/mozart-mozart-i-jeszcze-raz-mozart/
LOCATION:Milicz\, 56-300\, Poland
ATTACH;FMTTYPE=image/jpeg:https://filharmoniasudecka.pl/wp-content/uploads/2023/01/20220513-FS-326-scaled.jpg
END:VEVENT
BEGIN:VEVENT
DTSTART;TZID=Europe/Warsaw:20230127T190000
DTEND;TZID=Europe/Warsaw:20230127T190000
DTSTAMP:20260421T164200
CREATED:20230101T141002Z
LAST-MODIFIED:20230122T203914Z
UID:10000008-1674846000-1674846000@filharmoniasudecka.pl
SUMMARY:W Dniu Urodzin Mozarta
DESCRIPTION:Najsłynniejsza ze wszystkich – Aria Królowej Nocy Der Hölle Rache kocht in meinem Herzen (Piekielna zemsta kipi w moim sercu)\, okrzyknięta została jedną z najtrudniejszych arii operowych świata. Królowa Nocy władająca baśniową krainą jest postacią na wskroś przepełnioną złem. Odkąd jej mąż przekazał arcykapłanowi Sarastrowi amulet Siedmiokrotnego Kręgu Słonecznego obsesyjnie próbuje odzyskać artefakt\, by wszelka władza należała do niej. \nJednak miłość zwycięża wszelkie zło… \nWykonawcy: \nKrzysztof Kusiel-Moroz – dyrygent\nSoliści: Studenci Wydziału Wokalnego Uniwersytetu Muzycznego Fryderyka Chopina\nOrkiestra Symfoniczna Filharmonii Sudeckiej\nChór Kameralny Uniwersytetu Muzycznego Fryderyka Chopina\, przygotowanie – Krzysztof Kusiel-Moroz \nProgram:\nW. A. Mozart Czarodziejski flet – opera w wersji koncertowej
URL:https://filharmoniasudecka.pl/event/w-dniu-urodzin-mozarta/
LOCATION:Milicz\, 56-300\, Poland
ATTACH;FMTTYPE=image/png:https://filharmoniasudecka.pl/wp-content/uploads/2023/01/urodziny_mozarta.png
END:VEVENT
BEGIN:VEVENT
DTSTART;TZID=Europe/Warsaw:20230121T180000
DTEND;TZID=Europe/Warsaw:20230121T180000
DTSTAMP:20260421T164200
CREATED:20230101T140636Z
LAST-MODIFIED:20230121T142906Z
UID:10000007-1674324000-1674324000@filharmoniasudecka.pl
SUMMARY:Koncert Kameralny – Tria Corda
DESCRIPTION:Pragniemy Państwu zaprezentować jedno z najpiękniejszych współbrzmień instrumentów w nietuzinkowym repertuarze! Dzięki połączeniu brzmienia fletu\, waltorni i fortepianu powstaje barwa\, którą rzadko można usłyszeć w występach zespołów kameralnych. Jest to zatem okazja do zapoznania się z tą wyjątkową kompilacją instrumentów. Proponujemy Państwu wieczór pełen emocji\, pięknych barw i dobrej energii! \nczas trwania koncertu około 50 minut \n\n\nKoncert kameralny\nWykonawcy: \nSylwia Waindok – flet\nAnna Mondry – waltornia\nKamil Grabowski – fortepian \nProgram:\nG. Barboteu Esquisse\nE. Ewazen Ballade\, Pastorale and Dance\nF. Duvernoy Trio nr 2\nA. F. Doppler Souvenir du Rigi op. 38 
URL:https://filharmoniasudecka.pl/event/koncert-kameralny-tria-corda/
LOCATION:Milicz\, 56-300\, Poland
CATEGORIES:Koncert kameralny
ATTACH;FMTTYPE=image/jpeg:https://filharmoniasudecka.pl/wp-content/uploads/2023/01/tria_corda.jpg
END:VEVENT
BEGIN:VEVENT
DTSTART;TZID=Europe/Warsaw:20230120T190000
DTEND;TZID=Europe/Warsaw:20230120T190000
DTSTAMP:20260421T164200
CREATED:20230101T135532Z
LAST-MODIFIED:20230101T140317Z
UID:10000006-1674241200-1674241200@filharmoniasudecka.pl
SUMMARY:Gorąca i tragiczna miłość Cyganki i Torreadora
DESCRIPTION:Habanera (wykonywana przez Carmen podczas I aktu) – zaczyna się od słów L’amour est un oiseau rebelle (Miłość jest wolnym ptakiem)\, które napisał sam Bizet. Jest ona najlepszą charakterystyką głównej bohaterki – niezdolnej do stałego uczucia\, często zmieniającej kochanków. Pieśń świadczy o tym\, że Carmen nie czuje się odpowiedzialna za krzywdę\, którą wyrządza „usidlonym” przez siebie mężczyznom\, co finalnie źle się dla niej kończy. \nWykonawcy: \nRadosław Droń – dyrygent\nDorota Graca – skrzypce\nOrkiestra Symfoniczna Filharmonii Sudeckiej \nProgram: \nE. Chabrier España\nE. Lalò  Symfonia hiszpańska d-moll op. 21\nG. Bizet Suita nr 1 i 2 z opery Carmen
URL:https://filharmoniasudecka.pl/event/goraca-i-tragiczna-milosc-cyganki-i-torreadora/
LOCATION:Milicz\, 56-300\, Poland
END:VEVENT
BEGIN:VEVENT
DTSTART;TZID=Europe/Warsaw:20230114T180000
DTEND;TZID=Europe/Warsaw:20230114T180000
DTSTAMP:20260421T164200
CREATED:20230101T135110Z
LAST-MODIFIED:20230112T175732Z
UID:10000005-1673719200-1673719200@filharmoniasudecka.pl
SUMMARY:Chopin & Małucha - koncert wielkich wyzwań
DESCRIPTION:Ta oryginalna formuła koncertowa ma na celu pobudzić nowy rodzaj doznań muzycznych i dać sporą dawkę pozytywnej energii. \nKoncert ten to przede wszystkim wyzwanie dla jego odbiorcy\, który w pierwszej części zostanie poprowadzony w świat niezwykłej muzyki Fryderyka Chopina\, a w drugiej podąży za muzyką I Koncertu Wrocławskiego w nieznane mu dotąd zakątki\, by po powrocie do rzeczywistości dokonać subiektywnej oceny\, czy cel koncertu został osiągnięty. \n\nWiesław Małucha \nWykonawcy: \nPrzemysław Witek – fortepian \nProgram: \n\n\n\nFryderyk Chopin\nWiesław Małucha\n\n\nBallada g-moll op. 23\nI Koncert Wrocławski na fortepian solo\n\n\nBallada F-dur op. 38\ncz. 1. Andante\n\n\nBallada As-dur op. 47\ncz. 2. Adagio\n\n\nBallada f-moll op. 52\ncz. 3. Lento\n\n\n\nPrzemysław Witek – wirtuoz fortepianu\, pracownik naukowy Akademii Muzycznej w Poznaniu\, postawił przed sobą wyzwanie wykonania kolejno wszystkich czterech Ballad Fryderyka Chopina i następnie I Koncertu Wrocławskiego. \nWiesław Małucha – wrocławski kompozytor\, zwycięzca tegorocznej edycji Międzynarodowego Konkursu Kompozytorskiego Wiedeńskiej Akademii Muzyki Klasycznej – udzielił artyście wsparcia przygotowując na tę okazję specjalny koncert\, którym chce nawiązać międzypokoleniową łączność z muzyką Fryderyka Chopina.
URL:https://filharmoniasudecka.pl/event/chopin-malucha-koncert-wielkich-wyzwan/
LOCATION:Milicz\, 56-300\, Poland
CATEGORIES:Koncert kameralny
ATTACH;FMTTYPE=image/jpeg:https://filharmoniasudecka.pl/wp-content/uploads/2023/01/Plakat_14.01.23.jpg
END:VEVENT
BEGIN:VEVENT
DTSTART;TZID=Europe/Warsaw:20230113T190000
DTEND;TZID=Europe/Warsaw:20230113T190000
DTSTAMP:20260421T164200
CREATED:20230101T134525Z
LAST-MODIFIED:20230102T171337Z
UID:10000004-1673636400-1673636400@filharmoniasudecka.pl
SUMMARY:Kuba - wyspa\, jak wulkan gorąca
DESCRIPTION:Każdy koncert zespołu Jose Torres & Havana Dreams to podróż w krainę latynoskich rytmów\, pełnych słońca kolorów i dźwięków Kuby oraz Ameryki Łacińskiej. Program artystyczny jest wędrówką po krainie radości\, pokładach energii i ścieżkach nostalgii oddających klimat ulic Havany. Pomiędzy utworami Jose Torres wprowadza publiczność w tematykę utworów\, opowiada anegdoty\, wciąga widzów w show. Wspiera go w tym zespół Havana Dreams z wokalistami – znany kubańczyk Juan Carlos Hechavarria León oraz wspaniała Yaremi de las Mercedes Kordos. \nProgram: \nJose Torres & Havana Dreams  Aquellos ojos verdes\, Besame mucho\, Chan chan\, Dos Gardenias\, Drume Negrita\, El manisero\, Guantanamera\, Como fue\, Me voy pal pueblo\, Obsession\, Perdón\, Quiereme Mucho\, Son para Ti\, Madrigal \nWykonawcy: \nMiłosz Kula – dyrygent\nJose Torres i Havana Dreams\nOrkiestra Symfoniczna Filharmonii Sudeckiej \nKoncert specjalny
URL:https://filharmoniasudecka.pl/event/kuba-wyspa-jak-wulkan-goraca/
LOCATION:Milicz\, 56-300\, Poland
CATEGORIES:Koncert specjalny
END:VEVENT
BEGIN:VEVENT
DTSTART;TZID=Europe/Warsaw:20221231T200000
DTEND;TZID=Europe/Warsaw:20221231T210000
DTSTAMP:20260421T164200
CREATED:20221229T234712Z
LAST-MODIFIED:20250620T101124Z
UID:10000001-1672516800-1672520400@filharmoniasudecka.pl
SUMMARY:Jak Sylwester to tylko w Filharmonii
DESCRIPTION:Z końcem roku narasta w nas chęć do szampańskiej zabawy. Tylko taką znajdziecie Państwo w programie Koncertu Sylwestrowego z udziałem wspaniałych solistów i nie mniej wspaniałej orkiestry.\nW ten wieczór wybierzemy się na wesele Figara\, z wesołą wdówką zaśpiewamy Usta milczą\, dusza śpiewa\, stawimy czoła groźnemu bykowi na corridzie i wzniesiemy szampanem toast z Traviatą. \nWykonawcy: \nPaweł Kotla – dyrygent\nNatalia Rubiś – sopran\nKrystian Krzeszowiak – tenor\nGrażyna Wolszczak – prowadzenie koncertu\nOrkiestra Symfoniczna Filharmonii Sudeckiej \nProgram: \nW. A. Mozart Uwertura do opery Wesele Figara\nW. A. Mozart Dies Bildnis z opery Die Zauberflöte\nA. Dvořák Měsíčku na nebi hlubokém z opery Rusałka\nJ. Strauss jr. Polka Pizzicato\nF. Lehar Usta milczą\, dusza śpiewa z operetki Wesoła wdówka\nJ. Offenbach Barkarola z opery Opowieści Hoffmanna\nG. Rossini Quell’alme pupille z opery La pietra del paragone\nCh. Gounod Je veux vivre z opery Romeo et Juliette\nG. Bizet Uwertura do opery Carmen\nE. de Curtis Torna a Surriento 1937\nG. Puccini O mio babbino caro z opery Gianni Schicchi\nP. Mascagni Intermezzo z opery Rycerskość wieśniacza\nL. Arditi Il bacio\nV. di Chiara La spagnola\nG. Verdi Libiamo z opery Traviata \nDo siego Roku! \nCzas trwania koncertu około 58 minut
URL:https://filharmoniasudecka.pl/event/jak-sylwester-to-tylko-w-filharmonii/
LOCATION:Milicz\, 56-300\, Poland
END:VEVENT
END:VCALENDAR